BEGIN:VCALENDAR
VERSION:2.0
PRODID:-//Claje - ECPv6.15.20//NONSGML v1.0//EN
CALSCALE:GREGORIAN
METHOD:PUBLISH
X-WR-CALNAME:Claje
X-ORIGINAL-URL:https://claje.asso.fr
X-WR-CALDESC:Évènements pour Claje
REFRESH-INTERVAL;VALUE=DURATION:PT1H
X-Robots-Tag:noindex
X-PUBLISHED-TTL:PT1H
BEGIN:VTIMEZONE
TZID:Europe/Paris
BEGIN:DAYLIGHT
TZOFFSETFROM:+0100
TZOFFSETTO:+0200
TZNAME:CEST
DTSTART:20240331T010000
END:DAYLIGHT
BEGIN:STANDARD
TZOFFSETFROM:+0200
TZOFFSETTO:+0100
TZNAME:CET
DTSTART:20241027T010000
END:STANDARD
BEGIN:DAYLIGHT
TZOFFSETFROM:+0100
TZOFFSETTO:+0200
TZNAME:CEST
DTSTART:20250330T010000
END:DAYLIGHT
BEGIN:STANDARD
TZOFFSETFROM:+0200
TZOFFSETTO:+0100
TZNAME:CET
DTSTART:20251026T010000
END:STANDARD
BEGIN:DAYLIGHT
TZOFFSETFROM:+0100
TZOFFSETTO:+0200
TZNAME:CEST
DTSTART:20260329T010000
END:DAYLIGHT
BEGIN:STANDARD
TZOFFSETFROM:+0200
TZOFFSETTO:+0100
TZNAME:CET
DTSTART:20261025T010000
END:STANDARD
END:VTIMEZONE
BEGIN:VEVENT
DTSTART;TZID=Europe/Paris:20250205T200000
DTEND;TZID=Europe/Paris:20250205T213000
DTSTAMP:20260419T144854
CREATED:20250108T152249Z
LAST-MODIFIED:20250108T152249Z
UID:10000494-1738785600-1738791000@claje.asso.fr
SUMMARY:CONCERT DES GROUPES POP & FUNK DES ÉLÈVES
DESCRIPTION:Plongez dans une soirée musicale exceptionnelle à la Ferronnerie au CPA Pina Bausch ! Sur scène\, des artistes talentueux vous feront vibrer au son de la Soul\,\ndu Funk et de la Pop. \nInfos pratiques : \nEntrée libre \nFamille
URL:https://claje.asso.fr/event/concert-des-groupes-pop-funk-des-eleves/
LOCATION:CPA Bessie Smith\, 19 rue Antoine Julien Hénard\, Paris 12\, 75012\, France
CATEGORIES:concert,CPA Pina Bausch,Festival musical
ATTACH;FMTTYPE=image/png:https://claje.asso.fr/wp-content/uploads/2024/12/festival-musical-1.png
END:VEVENT
END:VCALENDAR