BEGIN:VCALENDAR
VERSION:2.0
PRODID:-//Claje - ECPv6.15.20//NONSGML v1.0//EN
CALSCALE:GREGORIAN
METHOD:PUBLISH
X-WR-CALNAME:Claje
X-ORIGINAL-URL:https://claje.asso.fr
X-WR-CALDESC:Évènements pour Claje
REFRESH-INTERVAL;VALUE=DURATION:PT1H
X-Robots-Tag:noindex
X-PUBLISHED-TTL:PT1H
BEGIN:VTIMEZONE
TZID:Europe/Paris
BEGIN:DAYLIGHT
TZOFFSETFROM:+0100
TZOFFSETTO:+0200
TZNAME:CEST
DTSTART:20250330T010000
END:DAYLIGHT
BEGIN:STANDARD
TZOFFSETFROM:+0200
TZOFFSETTO:+0100
TZNAME:CET
DTSTART:20251026T010000
END:STANDARD
BEGIN:DAYLIGHT
TZOFFSETFROM:+0100
TZOFFSETTO:+0200
TZNAME:CEST
DTSTART:20260329T010000
END:DAYLIGHT
BEGIN:STANDARD
TZOFFSETFROM:+0200
TZOFFSETTO:+0100
TZNAME:CET
DTSTART:20261025T010000
END:STANDARD
BEGIN:DAYLIGHT
TZOFFSETFROM:+0100
TZOFFSETTO:+0200
TZNAME:CEST
DTSTART:20270328T010000
END:DAYLIGHT
BEGIN:STANDARD
TZOFFSETFROM:+0200
TZOFFSETTO:+0100
TZNAME:CET
DTSTART:20271031T010000
END:STANDARD
END:VTIMEZONE
BEGIN:VEVENT
DTSTART;TZID=Europe/Paris:20260318T131500
DTEND;TZID=Europe/Paris:20260318T170000
DTSTAMP:20260420T075350
CREATED:20250919T130502Z
LAST-MODIFIED:20250919T130502Z
UID:10000652-1773839700-1773853200@claje.asso.fr
SUMMARY:[Tournoi] De Dodgeball
DESCRIPTION:Le CPA Annie Fratellini invite les jeunes à participer à une série de tournois de Dodge Ball\, un sport où se mêlent stratégie\, vitesse et esprit d’équipe. \nCes journées sportives intercentres se dérouleront au centre de loisirs de l’école Barbanègre A dans le 19ᵉ arrondissement\, aux dates suivantes : \n\nMercredi 18 mars 2026\nMercredi 6 mai 2026\n\nLe départ se fera du centre Annie Fratellini à 13h15.\nUne belle occasion de se dépasser\, de partager l’énergie du jeu collectif et de représenter son centre dans une ambiance conviviale et sportive ! \nInfos pratiques : \n11-17 ans \nSur inscription\nGratuit\nDépart du centre à 13h15 (prévoir titres de transports)
URL:https://claje.asso.fr/event/tournoi-de-dodgeball-3/
LOCATION:CPA Annie Fratellini *\, 36 quai de la Rapée\, Paris\, 75012\, France
CATEGORIES:CPA Annie Fratellini,Evènement,Jeunes
ATTACH;FMTTYPE=image/jpeg:https://claje.asso.fr/wp-content/uploads/2025/09/dodgeball.jpg
END:VEVENT
END:VCALENDAR