BEGIN:VCALENDAR
VERSION:2.0
PRODID:-//Claje - ECPv6.15.20//NONSGML v1.0//EN
CALSCALE:GREGORIAN
METHOD:PUBLISH
X-ORIGINAL-URL:https://claje.asso.fr
X-WR-CALDESC:Évènements pour Claje
REFRESH-INTERVAL;VALUE=DURATION:PT1H
X-Robots-Tag:noindex
X-PUBLISHED-TTL:PT1H
BEGIN:VTIMEZONE
TZID:Europe/Paris
BEGIN:DAYLIGHT
TZOFFSETFROM:+0100
TZOFFSETTO:+0200
TZNAME:CEST
DTSTART:20240331T010000
END:DAYLIGHT
BEGIN:STANDARD
TZOFFSETFROM:+0200
TZOFFSETTO:+0100
TZNAME:CET
DTSTART:20241027T010000
END:STANDARD
BEGIN:DAYLIGHT
TZOFFSETFROM:+0100
TZOFFSETTO:+0200
TZNAME:CEST
DTSTART:20250330T010000
END:DAYLIGHT
BEGIN:STANDARD
TZOFFSETFROM:+0200
TZOFFSETTO:+0100
TZNAME:CET
DTSTART:20251026T010000
END:STANDARD
BEGIN:DAYLIGHT
TZOFFSETFROM:+0100
TZOFFSETTO:+0200
TZNAME:CEST
DTSTART:20260329T010000
END:DAYLIGHT
BEGIN:STANDARD
TZOFFSETFROM:+0200
TZOFFSETTO:+0100
TZNAME:CET
DTSTART:20261025T010000
END:STANDARD
END:VTIMEZONE
BEGIN:VEVENT
DTSTART;TZID=Europe/Paris:20251213T100000
DTEND;TZID=Europe/Paris:20251213T220000
DTSTAMP:20260420T033139
CREATED:20251209T172936Z
LAST-MODIFIED:20251209T172936Z
UID:10000718-1765620000-1765663200@claje.asso.fr
SUMMARY:[Sortie] Marché de Noël de Provins
DESCRIPTION:Laissez-vous porter par l’esprit de Noël et venez découvrir le marché de Noël médiéval de Provins le samedi 13 décembre 2025. \nVenez vivre l’expérience unique du marché médiéval de Provins ! \nInfos pratiques : \nDépart depuis le CPA Annie Fratellini à 10h00\nInscription obligatoire au CPA Annie Fratellini\nTout public
URL:https://claje.asso.fr/event/sortie-marche-de-noel-de-provins/
LOCATION:CPA Annie Fratellini *\, 36 quai de la Rapée\, Paris\, 75012\, France
CATEGORIES:convivialité,CPA Annie Fratellini,Evènement
ATTACH;FMTTYPE=image/jpeg:https://claje.asso.fr/wp-content/uploads/2025/12/marche-de-noel-provins.jpg
END:VEVENT
END:VCALENDAR