BEGIN:VCALENDAR
VERSION:2.0
PRODID:-//Claje - ECPv6.15.20//NONSGML v1.0//EN
CALSCALE:GREGORIAN
METHOD:PUBLISH
X-WR-CALNAME:Claje
X-ORIGINAL-URL:https://claje.asso.fr
X-WR-CALDESC:Évènements pour Claje
REFRESH-INTERVAL;VALUE=DURATION:PT1H
X-Robots-Tag:noindex
X-PUBLISHED-TTL:PT1H
BEGIN:VTIMEZONE
TZID:Europe/Paris
BEGIN:DAYLIGHT
TZOFFSETFROM:+0100
TZOFFSETTO:+0200
TZNAME:CEST
DTSTART:20240331T010000
END:DAYLIGHT
BEGIN:STANDARD
TZOFFSETFROM:+0200
TZOFFSETTO:+0100
TZNAME:CET
DTSTART:20241027T010000
END:STANDARD
BEGIN:DAYLIGHT
TZOFFSETFROM:+0100
TZOFFSETTO:+0200
TZNAME:CEST
DTSTART:20250330T010000
END:DAYLIGHT
BEGIN:STANDARD
TZOFFSETFROM:+0200
TZOFFSETTO:+0100
TZNAME:CET
DTSTART:20251026T010000
END:STANDARD
BEGIN:DAYLIGHT
TZOFFSETFROM:+0100
TZOFFSETTO:+0200
TZNAME:CEST
DTSTART:20260329T010000
END:DAYLIGHT
BEGIN:STANDARD
TZOFFSETFROM:+0200
TZOFFSETTO:+0100
TZNAME:CET
DTSTART:20261025T010000
END:STANDARD
END:VTIMEZONE
BEGIN:VEVENT
DTSTART;TZID=Europe/Paris:20251106T190000
DTEND;TZID=Europe/Paris:20251106T220000
DTSTAMP:20260420T015345
CREATED:20251020T101012Z
LAST-MODIFIED:20251020T125224Z
UID:10000695-1762455600-1762466400@claje.asso.fr
SUMMARY:[Sortie]Roméo de Marion Levy et Mariette Navarro
DESCRIPTION:Le CPA Musidora vous propose une sortie culturelle hors les murs au Théâtre de la Ville pour découvrir le spectacle Roméo de Marion Levy et Mariette Navarro. \n\n\n\nRoméo a 14 ans et les tourments de l’adolescence qui vont avec. Il est amoureux de Juliette et ronge son frein dans sa chambre en désordre\, parce qu’on le sait bien\, cette fille n’est pas pour lui. Interdite. À la dramaturgie\, Mariette Navarro prend appui sur la tragédie de Shakespeare mais sans pour autant l’adapter. Elle propose une réécriture libre\, intimiste et sensible\, centrée sur le personnage masculin. Après Et Juliette\, Marion Lévy\, à la tête de la Compagnie Didascalie\, imagine un Roméo d’aujourd’hui\, collégien connecté aux prises avec ce corps qui mute\, avec des humeurs en dents de scie\, des sentiments trop grands et l’amour qui lui tombe dessus pour la première fois. Accompagné d’un guitariste complice\, le danseur fait exploser ses états d’âme dans une gestuelle pleine d’adrénaline. \n\n\n\nJeudi 6 novembre à 19h \n\n\n\nAu Théâtre de la Ville Hors les Murs / Le Carreau du Temple 2\, rue Perrée\, Paris 3e \n\n\n\nSpectacle Théâtre à partir de 13 ans Tarif 8€ \n\n\n\nPlacement libre / durée 45 mn \n\nLes places sont à retirer au CPA Musidora \n  \nphoto : Julie Mouton
URL:https://claje.asso.fr/event/sortieromeo-de-marion-levy-et-mariette-navarro/
LOCATION:Carreau du Temple\, 2 rue Perrée\, Paris 3\, 75003\, France
CATEGORIES:Evènement,Spectacle
ATTACH;FMTTYPE=image/png:https://claje.asso.fr/wp-content/uploads/2025/10/romeo.png
END:VEVENT
END:VCALENDAR