BEGIN:VCALENDAR
VERSION:2.0
PRODID:-//Claje - ECPv6.15.20//NONSGML v1.0//EN
CALSCALE:GREGORIAN
METHOD:PUBLISH
X-WR-CALNAME:Claje
X-ORIGINAL-URL:https://claje.asso.fr
X-WR-CALDESC:Évènements pour Claje
REFRESH-INTERVAL;VALUE=DURATION:PT1H
X-Robots-Tag:noindex
X-PUBLISHED-TTL:PT1H
BEGIN:VTIMEZONE
TZID:Europe/Paris
BEGIN:DAYLIGHT
TZOFFSETFROM:+0100
TZOFFSETTO:+0200
TZNAME:CEST
DTSTART:20240331T010000
END:DAYLIGHT
BEGIN:STANDARD
TZOFFSETFROM:+0200
TZOFFSETTO:+0100
TZNAME:CET
DTSTART:20241027T010000
END:STANDARD
BEGIN:DAYLIGHT
TZOFFSETFROM:+0100
TZOFFSETTO:+0200
TZNAME:CEST
DTSTART:20250330T010000
END:DAYLIGHT
BEGIN:STANDARD
TZOFFSETFROM:+0200
TZOFFSETTO:+0100
TZNAME:CET
DTSTART:20251026T010000
END:STANDARD
BEGIN:DAYLIGHT
TZOFFSETFROM:+0100
TZOFFSETTO:+0200
TZNAME:CEST
DTSTART:20260329T010000
END:DAYLIGHT
BEGIN:STANDARD
TZOFFSETFROM:+0200
TZOFFSETTO:+0100
TZNAME:CET
DTSTART:20261025T010000
END:STANDARD
END:VTIMEZONE
BEGIN:VEVENT
DTSTART;TZID=Europe/Paris:20250524T140000
DTEND;TZID=Europe/Paris:20250524T190000
DTSTAMP:20260419T161918
CREATED:20250520T153231Z
LAST-MODIFIED:20250520T153231Z
UID:10000599-1748095200-1748113200@claje.asso.fr
SUMMARY:[Evènement] Lamé est à nous 2025
DESCRIPTION:Le samedi 24 mai\, la 2e édition de « Lamé est à nous » vous attend rue Gabriel Lamé pour un après-midi festif et convivial !\n\n\n\n« Lamé est à Nous » est une journée festive et conviviale qui célébrera cette année toutes les cultures\, qu’elles soient d’ici ou d’ailleurs\, traditionnelles ou urbaines !\n\n \n\nAu programme : danses\, calligraphie\, jeux\, ateliers culinaires\, slam\, magie\, tresses africaines\, maquillage du monde\, slackline\, structures gonflables et bien plus encore.\n\n \n\nDes stands dédiés aux cultures du monde\, aux expressions émergentes comme le cosplay ou les mangas\, et aux talents locaux viendront rythmer la journée.\n\n \n\nChaque espace proposera des animations interactives pour découvrir\, créer\, s’amuser et partager.\n\n \n\nQue vous soyez passionné de pop culture\, curieux des traditions ou amateur de saveurs nouvelles\, il y en aura pour tous les goûts et tous les âges.\n\n \n\nVenez nombreux vivre cette fête du mélange\, de la créativité et de la rencontre !\n\n\n\n\nInfos pratiques\n \n\nGratuit / tout public\n\n \nQuand ?\n \n\nSamedi 24 mai 2025\n14h00-19h00
URL:https://claje.asso.fr/event/evenement-lame-est-a-nous-2025/
LOCATION:Espace Gabriel Lamé\, 22 rue Gabriel Lamé\, Paris\, 75012\, France
CATEGORIES:convivialité,CPA Musidora,Enfants,Evènement
ATTACH;FMTTYPE=image/png:https://claje.asso.fr/wp-content/uploads/2025/04/lame-est-a-nous-2025.png
END:VEVENT
END:VCALENDAR