BEGIN:VCALENDAR
VERSION:2.0
PRODID:-//Claje - ECPv6.15.20//NONSGML v1.0//EN
CALSCALE:GREGORIAN
METHOD:PUBLISH
X-WR-CALNAME:Claje
X-ORIGINAL-URL:https://claje.asso.fr
X-WR-CALDESC:Évènements pour Claje
REFRESH-INTERVAL;VALUE=DURATION:PT1H
X-Robots-Tag:noindex
X-PUBLISHED-TTL:PT1H
BEGIN:VTIMEZONE
TZID:Europe/Paris
BEGIN:DAYLIGHT
TZOFFSETFROM:+0100
TZOFFSETTO:+0200
TZNAME:CEST
DTSTART:20230326T010000
END:DAYLIGHT
BEGIN:STANDARD
TZOFFSETFROM:+0200
TZOFFSETTO:+0100
TZNAME:CET
DTSTART:20231029T010000
END:STANDARD
BEGIN:DAYLIGHT
TZOFFSETFROM:+0100
TZOFFSETTO:+0200
TZNAME:CEST
DTSTART:20240331T010000
END:DAYLIGHT
BEGIN:STANDARD
TZOFFSETFROM:+0200
TZOFFSETTO:+0100
TZNAME:CET
DTSTART:20241027T010000
END:STANDARD
BEGIN:DAYLIGHT
TZOFFSETFROM:+0100
TZOFFSETTO:+0200
TZNAME:CEST
DTSTART:20250330T010000
END:DAYLIGHT
BEGIN:STANDARD
TZOFFSETFROM:+0200
TZOFFSETTO:+0100
TZNAME:CET
DTSTART:20251026T010000
END:STANDARD
END:VTIMEZONE
BEGIN:VEVENT
DTSTART;TZID=Europe/Paris:20240406T140000
DTEND;TZID=Europe/Paris:20240406T180000
DTSTAMP:20260420T075307
CREATED:20240322T100840Z
LAST-MODIFIED:20240322T101142Z
UID:10000284-1712412000-1712426400@claje.asso.fr
SUMMARY:[Forum] Les vacances\, c’est la kiffance
DESCRIPTION:Un Forum dédié aux astuces et bons plans pour les vacances pour partir ou simplement profiter d’un été à Paris. La Ville de Paris organise le 6 avril 2024 de 14h à 18h\, à QJ\, un forum vacances à destination des jeunes pour préparer leurs futurs projets d’évasion et présenter les opportunités d’activités et de loisirs à l’approche de l’été. Lors de ce forum vous pourrez\, \n\n\nDécouvrir les différentes aides et dispositifs existants ;\n\n\n\nEtre accompagné.e et Faciliter votre départ en vacances ;\n\n\n\nConnaître les opportunités de l’été à Paris et dans un contexte de Jeux Olympiques et Paralympiques\n\n\n\nEchanger sur les expériences de voyage…\n\n\n  Samedi 6 avril à 14h00 Quartier Jeunes 4 place du Louvre\, 75001 Paris
URL:https://claje.asso.fr/event/forum-les-vacances-cest-la-kiffance/
LOCATION:Quartier Jeunes\, 4 place du Louvre\, Paris\, 75001
CATEGORIES:Evènement,Jeunes
ATTACH;FMTTYPE=image/png:https://claje.asso.fr/wp-content/uploads/2024/03/vacances-kiffance.png
END:VEVENT
END:VCALENDAR