BEGIN:VCALENDAR
VERSION:2.0
PRODID:-//Claje - ECPv6.15.20//NONSGML v1.0//EN
CALSCALE:GREGORIAN
METHOD:PUBLISH
X-ORIGINAL-URL:https://claje.asso.fr
X-WR-CALDESC:Évènements pour Claje
REFRESH-INTERVAL;VALUE=DURATION:PT1H
X-Robots-Tag:noindex
X-PUBLISHED-TTL:PT1H
BEGIN:VTIMEZONE
TZID:Europe/Paris
BEGIN:DAYLIGHT
TZOFFSETFROM:+0100
TZOFFSETTO:+0200
TZNAME:CEST
DTSTART:20240331T010000
END:DAYLIGHT
BEGIN:STANDARD
TZOFFSETFROM:+0200
TZOFFSETTO:+0100
TZNAME:CET
DTSTART:20241027T010000
END:STANDARD
BEGIN:DAYLIGHT
TZOFFSETFROM:+0100
TZOFFSETTO:+0200
TZNAME:CEST
DTSTART:20250330T010000
END:DAYLIGHT
BEGIN:STANDARD
TZOFFSETFROM:+0200
TZOFFSETTO:+0100
TZNAME:CET
DTSTART:20251026T010000
END:STANDARD
BEGIN:DAYLIGHT
TZOFFSETFROM:+0100
TZOFFSETTO:+0200
TZNAME:CEST
DTSTART:20260329T010000
END:DAYLIGHT
BEGIN:STANDARD
TZOFFSETFROM:+0200
TZOFFSETTO:+0100
TZNAME:CET
DTSTART:20261025T010000
END:STANDARD
END:VTIMEZONE
BEGIN:VEVENT
DTSTART;TZID=Europe/Paris:20250917T200000
DTEND;TZID=Europe/Paris:20250917T230000
DTSTAMP:20260419T193216
CREATED:20250604T111655Z
LAST-MODIFIED:20250829T104552Z
UID:10000622-1758139200-1758150000@claje.asso.fr
SUMMARY:[Théâtre] L'état de siège
DESCRIPTION:Venez découvrir la pièce d’Albert Camus\, mise en scène par Magali Serra sur les planches de la Ferronnerie du 17 au 20 septembre 2025. \n\n\n \nDans une ville de bord de mer\, La Peste\, accompagné de sa Secrétaire\, fait son apparition\, prend le pouvoir\, sème la terreur et révèle les stupidités d’un système tout autant que les bassesses et la cruauté de chacun. L’absurde vient alors interroger notre vigilance aux extrêmes avec un humour à la fois grinçant et vivifiant. Mais une question fondamentale persiste : Qu’est-ce qui peut vaincre la peur\, sinon l’amour ? \n\n\n \nD’après Albert Camus \n\n\n \nMise en scène : Magali Serra Avec : Laurent BANDIERI\, Nicolas BESLIN\, Rémi CHEVILLIET\, Vincent FLECHARD\, Barbara GARBARZ\, Delphine MÉAU\, Maëlys MONDEGUER\, Élisabeth MOUCHET\, Pierre SARDELLA \n\n\n \nInfos pratiques\n\n\n \n17 au 20 septembre à 20h13€/10€ tarif réduit \n\n\n \n\nRéservez en ligne\n\n \n 
URL:https://claje.asso.fr/event/theatre-letat-de-siege/2025-09-17/
LOCATION:CPA Pina Bausch / La Ferronnerie\, 4 passage stinville\, Paris 12\, France\, 75012\, France
CATEGORIES:Evènement,La Ferronnerie,Spectacle,Théâtre
ATTACH;FMTTYPE=image/png:https://claje.asso.fr/wp-content/uploads/2025/06/etat-de-siege-site.png
END:VEVENT
BEGIN:VEVENT
DTSTART;TZID=Europe/Paris:20250918T200000
DTEND;TZID=Europe/Paris:20250918T230000
DTSTAMP:20260419T193216
CREATED:20250604T111655Z
LAST-MODIFIED:20250829T104552Z
UID:10000623-1758225600-1758236400@claje.asso.fr
SUMMARY:[Théâtre] L'état de siège
DESCRIPTION:Venez découvrir la pièce d’Albert Camus\, mise en scène par Magali Serra sur les planches de la Ferronnerie du 17 au 20 septembre 2025. \n\n\n \nDans une ville de bord de mer\, La Peste\, accompagné de sa Secrétaire\, fait son apparition\, prend le pouvoir\, sème la terreur et révèle les stupidités d’un système tout autant que les bassesses et la cruauté de chacun. L’absurde vient alors interroger notre vigilance aux extrêmes avec un humour à la fois grinçant et vivifiant. Mais une question fondamentale persiste : Qu’est-ce qui peut vaincre la peur\, sinon l’amour ? \n\n\n \nD’après Albert Camus \n\n\n \nMise en scène : Magali Serra Avec : Laurent BANDIERI\, Nicolas BESLIN\, Rémi CHEVILLIET\, Vincent FLECHARD\, Barbara GARBARZ\, Delphine MÉAU\, Maëlys MONDEGUER\, Élisabeth MOUCHET\, Pierre SARDELLA \n\n\n \nInfos pratiques\n\n\n \n17 au 20 septembre à 20h13€/10€ tarif réduit \n\n\n \n\nRéservez en ligne\n\n \n 
URL:https://claje.asso.fr/event/theatre-letat-de-siege/2025-09-18/
LOCATION:CPA Pina Bausch / La Ferronnerie\, 4 passage stinville\, Paris 12\, France\, 75012\, France
CATEGORIES:Evènement,La Ferronnerie,Spectacle,Théâtre
ATTACH;FMTTYPE=image/png:https://claje.asso.fr/wp-content/uploads/2025/06/etat-de-siege-site.png
END:VEVENT
BEGIN:VEVENT
DTSTART;TZID=Europe/Paris:20250919T200000
DTEND;TZID=Europe/Paris:20250919T230000
DTSTAMP:20260419T193216
CREATED:20250604T111655Z
LAST-MODIFIED:20250829T104552Z
UID:10000624-1758312000-1758322800@claje.asso.fr
SUMMARY:[Théâtre] L'état de siège
DESCRIPTION:Venez découvrir la pièce d’Albert Camus\, mise en scène par Magali Serra sur les planches de la Ferronnerie du 17 au 20 septembre 2025. \n\n\n \nDans une ville de bord de mer\, La Peste\, accompagné de sa Secrétaire\, fait son apparition\, prend le pouvoir\, sème la terreur et révèle les stupidités d’un système tout autant que les bassesses et la cruauté de chacun. L’absurde vient alors interroger notre vigilance aux extrêmes avec un humour à la fois grinçant et vivifiant. Mais une question fondamentale persiste : Qu’est-ce qui peut vaincre la peur\, sinon l’amour ? \n\n\n \nD’après Albert Camus \n\n\n \nMise en scène : Magali Serra Avec : Laurent BANDIERI\, Nicolas BESLIN\, Rémi CHEVILLIET\, Vincent FLECHARD\, Barbara GARBARZ\, Delphine MÉAU\, Maëlys MONDEGUER\, Élisabeth MOUCHET\, Pierre SARDELLA \n\n\n \nInfos pratiques\n\n\n \n17 au 20 septembre à 20h13€/10€ tarif réduit \n\n\n \n\nRéservez en ligne\n\n \n 
URL:https://claje.asso.fr/event/theatre-letat-de-siege/2025-09-19/
LOCATION:CPA Pina Bausch / La Ferronnerie\, 4 passage stinville\, Paris 12\, France\, 75012\, France
CATEGORIES:Evènement,La Ferronnerie,Spectacle,Théâtre
ATTACH;FMTTYPE=image/png:https://claje.asso.fr/wp-content/uploads/2025/06/etat-de-siege-site.png
END:VEVENT
BEGIN:VEVENT
DTSTART;TZID=Europe/Paris:20250920T200000
DTEND;TZID=Europe/Paris:20250920T230000
DTSTAMP:20260419T193216
CREATED:20250604T111655Z
LAST-MODIFIED:20250829T104552Z
UID:10000625-1758398400-1758409200@claje.asso.fr
SUMMARY:[Théâtre] L'état de siège
DESCRIPTION:Venez découvrir la pièce d’Albert Camus\, mise en scène par Magali Serra sur les planches de la Ferronnerie du 17 au 20 septembre 2025. \n\n\n \nDans une ville de bord de mer\, La Peste\, accompagné de sa Secrétaire\, fait son apparition\, prend le pouvoir\, sème la terreur et révèle les stupidités d’un système tout autant que les bassesses et la cruauté de chacun. L’absurde vient alors interroger notre vigilance aux extrêmes avec un humour à la fois grinçant et vivifiant. Mais une question fondamentale persiste : Qu’est-ce qui peut vaincre la peur\, sinon l’amour ? \n\n\n \nD’après Albert Camus \n\n\n \nMise en scène : Magali Serra Avec : Laurent BANDIERI\, Nicolas BESLIN\, Rémi CHEVILLIET\, Vincent FLECHARD\, Barbara GARBARZ\, Delphine MÉAU\, Maëlys MONDEGUER\, Élisabeth MOUCHET\, Pierre SARDELLA \n\n\n \nInfos pratiques\n\n\n \n17 au 20 septembre à 20h13€/10€ tarif réduit \n\n\n \n\nRéservez en ligne\n\n \n 
URL:https://claje.asso.fr/event/theatre-letat-de-siege/2025-09-20/
LOCATION:CPA Pina Bausch / La Ferronnerie\, 4 passage stinville\, Paris 12\, France\, 75012\, France
CATEGORIES:Evènement,La Ferronnerie,Spectacle,Théâtre
ATTACH;FMTTYPE=image/png:https://claje.asso.fr/wp-content/uploads/2025/06/etat-de-siege-site.png
END:VEVENT
BEGIN:VEVENT
DTSTART;TZID=Europe/Paris:20250924T170000
DTEND;TZID=Europe/Paris:20250924T200000
DTSTAMP:20260419T193216
CREATED:20250904T093730Z
LAST-MODIFIED:20250904T093730Z
UID:10000632-1758733200-1758744000@claje.asso.fr
SUMMARY:Atelier rempotage
DESCRIPTION:Envie de vous lancer dans le jardinage ? De végétaliser votre espace ? Ne loupez pas nos rendez-vous de la rentrée. \nTroc végétal (boutures\, graines et accessoires)\nDu 22 au 27 septembre au CPA Musidora\nGratuit \nCPA Musidora\n51 rue François Truffaut\,\nParis 12 ème\nTél. : 01.44.74.05.14\nbercy@claje.asso.fr \n  \n\nAtelier rempotage\nMercredi 24 septembre de 17h à 20h  au CPA Bessie Smith\nGratuit \nCPA Bessie Smith\n19 rue Antoine Julien Hénard\nParis 12 ème\nTél. : 01.40.02.06.60\nreuilly@claje.asso.fr
URL:https://claje.asso.fr/event/atelier-rempotage/
LOCATION:CPA Bessie Smith\, 19 rue Antoine Julien Hénard\, Paris 12\, 75012\, France
CATEGORIES:convivialité,CPA Bessie Smith,Evènement
ATTACH;FMTTYPE=image/png:https://claje.asso.fr/wp-content/uploads/2025/09/la-main-verte.png
END:VEVENT
BEGIN:VEVENT
DTSTART;TZID=Europe/Paris:20250925T190000
DTEND;TZID=Europe/Paris:20250925T220000
DTSTAMP:20260419T193216
CREATED:20250916T081140Z
LAST-MODIFIED:20250916T081140Z
UID:10000642-1758826800-1758837600@claje.asso.fr
SUMMARY:[Expo] Métamorphoses de Hersey
DESCRIPTION:L’exposition Métamorphoses de Hersey se tiendra du 25 septembre au 18 octobre 2025 au CPA Pina Bausch\, avec un vernissage le jeudi 25 septembre à 19h. \nHeresy est un collectif d’ami·es animé·es par l’envie de partager leurs créations et leurs passions. Chaque membre y apporte sa vision\, sa sensibilité et son talent\, formant ensemble un véritable kaléidoscope d’expressions artistiques. \nL’objectif est de mettre en lumière les artistes émergent·es en valorisant leurs compétences et leur créativité\, notamment à travers l’organisation d’événements pluridisciplinaires mêlant musique\, expositions photographiques\, projections vidéo\, tatouage\, arts plastiques\, dessins et bien plus encore. \nInfos pratiques : \nTout public\nEntrée libre
URL:https://claje.asso.fr/event/expo-metamorphoses-de-hersey/
LOCATION:CPA Pina Bausch / La Ferronnerie\, 4 passage stinville\, Paris 12\, France\, 75012\, France
CATEGORIES:convivialité,CPA Pina Bausch,Evènement,Vernissage
ATTACH;FMTTYPE=image/jpeg:https://claje.asso.fr/wp-content/uploads/2025/09/expo-hersey.jpg
END:VEVENT
END:VCALENDAR