BEGIN:VCALENDAR
VERSION:2.0
PRODID:-//Claje - ECPv6.15.20//NONSGML v1.0//EN
CALSCALE:GREGORIAN
METHOD:PUBLISH
X-ORIGINAL-URL:https://claje.asso.fr
X-WR-CALDESC:Évènements pour Claje
REFRESH-INTERVAL;VALUE=DURATION:PT1H
X-Robots-Tag:noindex
X-PUBLISHED-TTL:PT1H
BEGIN:VTIMEZONE
TZID:Europe/Paris
BEGIN:DAYLIGHT
TZOFFSETFROM:+0100
TZOFFSETTO:+0200
TZNAME:CEST
DTSTART:20240331T010000
END:DAYLIGHT
BEGIN:STANDARD
TZOFFSETFROM:+0200
TZOFFSETTO:+0100
TZNAME:CET
DTSTART:20241027T010000
END:STANDARD
BEGIN:DAYLIGHT
TZOFFSETFROM:+0100
TZOFFSETTO:+0200
TZNAME:CEST
DTSTART:20250330T010000
END:DAYLIGHT
BEGIN:STANDARD
TZOFFSETFROM:+0200
TZOFFSETTO:+0100
TZNAME:CET
DTSTART:20251026T010000
END:STANDARD
BEGIN:DAYLIGHT
TZOFFSETFROM:+0100
TZOFFSETTO:+0200
TZNAME:CEST
DTSTART:20260329T010000
END:DAYLIGHT
BEGIN:STANDARD
TZOFFSETFROM:+0200
TZOFFSETTO:+0100
TZNAME:CET
DTSTART:20261025T010000
END:STANDARD
END:VTIMEZONE
BEGIN:VEVENT
DTSTART;TZID=Europe/Paris:20250108T200000
DTEND;TZID=Europe/Paris:20250108T220000
DTSTAMP:20260419T155454
CREATED:20250107T154840Z
LAST-MODIFIED:20250107T154840Z
UID:10000480-1736366400-1736373600@claje.asso.fr
SUMMARY:[Théâtre] Quand je serai grande je serai actrice etc
DESCRIPTION:La Ferronnerie accueille la compagnie Anémone du 8 au 11 janvier 2025 avec le spectacle  » Quand je serai grande je serai actrice etc » \nLa scène\, des désirs et nous. Comment faire ? Par où commencer ? \nComment apprivoiser ce quelque chose quigrandit en nous ? Le plateau devient un espace d’expérimentation où les idées prennent vie. \nCe spectacle est une traversée du processus créatif\, ses doutes mais aussi ses plaisirs. Une création enthousiaste et engagée ! \nEcriture et création originale: Compagnie Anémone\nAvec Garance Loukine et Jeanne Lasbleis-Renouvel\nAvec des textes de La Mouette de Anton Tchekhov et L’écrivain souterrain issu de Diablogues de Roland Dubillard.\nAinsi que des extraits musicaux: Contaminando de la Femme\, Love in portofino et Mourir sur scène de Dalida.\nAide à la création chorégraphique : Louise Melli\nCréation musicale: @yu_liing \nInfos pratiques\n8\, 9\, 10 et 11 janvier à 20h00\n13€-10€(tarif réduit) \nRéservation sur place ou en ligne \n\nRéservez en ligne
URL:https://claje.asso.fr/event/theatre-quand-je-serai-grande-je-serai-actrice-etc/2025-01-08/
LOCATION:CPA Pina Bausch / La Ferronnerie\, 4 passage stinville\, Paris 12\, France\, 75012\, France
CATEGORIES:CPA Pina Bausch,Evènement,La Ferronnerie,Spectacle,Théâtre
ATTACH;FMTTYPE=image/png:https://claje.asso.fr/wp-content/uploads/2025/01/actrice-site.png
END:VEVENT
BEGIN:VEVENT
DTSTART;TZID=Europe/Paris:20250109T200000
DTEND;TZID=Europe/Paris:20250109T220000
DTSTAMP:20260419T155454
CREATED:20250107T154840Z
LAST-MODIFIED:20250107T154840Z
UID:10000481-1736452800-1736460000@claje.asso.fr
SUMMARY:[Théâtre] Quand je serai grande je serai actrice etc
DESCRIPTION:La Ferronnerie accueille la compagnie Anémone du 8 au 11 janvier 2025 avec le spectacle  » Quand je serai grande je serai actrice etc » \nLa scène\, des désirs et nous. Comment faire ? Par où commencer ? \nComment apprivoiser ce quelque chose quigrandit en nous ? Le plateau devient un espace d’expérimentation où les idées prennent vie. \nCe spectacle est une traversée du processus créatif\, ses doutes mais aussi ses plaisirs. Une création enthousiaste et engagée ! \nEcriture et création originale: Compagnie Anémone\nAvec Garance Loukine et Jeanne Lasbleis-Renouvel\nAvec des textes de La Mouette de Anton Tchekhov et L’écrivain souterrain issu de Diablogues de Roland Dubillard.\nAinsi que des extraits musicaux: Contaminando de la Femme\, Love in portofino et Mourir sur scène de Dalida.\nAide à la création chorégraphique : Louise Melli\nCréation musicale: @yu_liing \nInfos pratiques\n8\, 9\, 10 et 11 janvier à 20h00\n13€-10€(tarif réduit) \nRéservation sur place ou en ligne \n\nRéservez en ligne
URL:https://claje.asso.fr/event/theatre-quand-je-serai-grande-je-serai-actrice-etc/2025-01-09/
LOCATION:CPA Pina Bausch / La Ferronnerie\, 4 passage stinville\, Paris 12\, France\, 75012\, France
CATEGORIES:CPA Pina Bausch,Evènement,La Ferronnerie,Spectacle,Théâtre
ATTACH;FMTTYPE=image/png:https://claje.asso.fr/wp-content/uploads/2025/01/actrice-site.png
END:VEVENT
BEGIN:VEVENT
DTSTART;TZID=Europe/Paris:20250110T200000
DTEND;TZID=Europe/Paris:20250110T220000
DTSTAMP:20260419T155454
CREATED:20250107T154840Z
LAST-MODIFIED:20250107T154840Z
UID:10000482-1736539200-1736546400@claje.asso.fr
SUMMARY:[Théâtre] Quand je serai grande je serai actrice etc
DESCRIPTION:La Ferronnerie accueille la compagnie Anémone du 8 au 11 janvier 2025 avec le spectacle  » Quand je serai grande je serai actrice etc » \nLa scène\, des désirs et nous. Comment faire ? Par où commencer ? \nComment apprivoiser ce quelque chose quigrandit en nous ? Le plateau devient un espace d’expérimentation où les idées prennent vie. \nCe spectacle est une traversée du processus créatif\, ses doutes mais aussi ses plaisirs. Une création enthousiaste et engagée ! \nEcriture et création originale: Compagnie Anémone\nAvec Garance Loukine et Jeanne Lasbleis-Renouvel\nAvec des textes de La Mouette de Anton Tchekhov et L’écrivain souterrain issu de Diablogues de Roland Dubillard.\nAinsi que des extraits musicaux: Contaminando de la Femme\, Love in portofino et Mourir sur scène de Dalida.\nAide à la création chorégraphique : Louise Melli\nCréation musicale: @yu_liing \nInfos pratiques\n8\, 9\, 10 et 11 janvier à 20h00\n13€-10€(tarif réduit) \nRéservation sur place ou en ligne \n\nRéservez en ligne
URL:https://claje.asso.fr/event/theatre-quand-je-serai-grande-je-serai-actrice-etc/2025-01-10/
LOCATION:CPA Pina Bausch / La Ferronnerie\, 4 passage stinville\, Paris 12\, France\, 75012\, France
CATEGORIES:CPA Pina Bausch,Evènement,La Ferronnerie,Spectacle,Théâtre
ATTACH;FMTTYPE=image/png:https://claje.asso.fr/wp-content/uploads/2025/01/actrice-site.png
END:VEVENT
BEGIN:VEVENT
DTSTART;TZID=Europe/Paris:20250111T200000
DTEND;TZID=Europe/Paris:20250111T220000
DTSTAMP:20260419T155454
CREATED:20250107T154840Z
LAST-MODIFIED:20250107T154840Z
UID:10000483-1736625600-1736632800@claje.asso.fr
SUMMARY:[Théâtre] Quand je serai grande je serai actrice etc
DESCRIPTION:La Ferronnerie accueille la compagnie Anémone du 8 au 11 janvier 2025 avec le spectacle  » Quand je serai grande je serai actrice etc » \nLa scène\, des désirs et nous. Comment faire ? Par où commencer ? \nComment apprivoiser ce quelque chose quigrandit en nous ? Le plateau devient un espace d’expérimentation où les idées prennent vie. \nCe spectacle est une traversée du processus créatif\, ses doutes mais aussi ses plaisirs. Une création enthousiaste et engagée ! \nEcriture et création originale: Compagnie Anémone\nAvec Garance Loukine et Jeanne Lasbleis-Renouvel\nAvec des textes de La Mouette de Anton Tchekhov et L’écrivain souterrain issu de Diablogues de Roland Dubillard.\nAinsi que des extraits musicaux: Contaminando de la Femme\, Love in portofino et Mourir sur scène de Dalida.\nAide à la création chorégraphique : Louise Melli\nCréation musicale: @yu_liing \nInfos pratiques\n8\, 9\, 10 et 11 janvier à 20h00\n13€-10€(tarif réduit) \nRéservation sur place ou en ligne \n\nRéservez en ligne
URL:https://claje.asso.fr/event/theatre-quand-je-serai-grande-je-serai-actrice-etc/2025-01-11/
LOCATION:CPA Pina Bausch / La Ferronnerie\, 4 passage stinville\, Paris 12\, France\, 75012\, France
CATEGORIES:CPA Pina Bausch,Evènement,La Ferronnerie,Spectacle,Théâtre
ATTACH;FMTTYPE=image/png:https://claje.asso.fr/wp-content/uploads/2025/01/actrice-site.png
END:VEVENT
BEGIN:VEVENT
DTSTART;TZID=Europe/Paris:20250123T200000
DTEND;TZID=Europe/Paris:20250123T220000
DTSTAMP:20260419T155454
CREATED:20250110T095357Z
LAST-MODIFIED:20250110T095357Z
UID:10000503-1737662400-1737669600@claje.asso.fr
SUMMARY:[Nuits de la lecture ] Un voyage en lecture et images
DESCRIPTION:A l’occasion de Nuits de la Lecture\, le centre Paris anim’ Fratellini propose deux soirées ppour se laisser emporter par la magie des histoires. \n« Les Nuits de la Lecture » est une manifestation du ministère de la Culture qui promeut le livre et la lecture auprès de tous les publics. Leur 9e édition est organisée en janvier 2024 sur le thème : « Le patrimoine » \nNous vous attendons pour une soirée de lectures\, images\, découvertes poétiques et sonores… \nJeudi 23 janvier 20h\nGratuit / adultes \nAu CPA Annie Fratellini
URL:https://claje.asso.fr/event/nuits-de-la-lecture-un-voyage-en-lecture-et-images/
LOCATION:CPA Annie Fratellini *\, 36 quai de la Rapée\, Paris\, 75012\, France
CATEGORIES:convivialité,CPA Annie Fralellini,Evènement
END:VEVENT
END:VCALENDAR