BEGIN:VCALENDAR
VERSION:2.0
PRODID:-//Claje - ECPv6.15.20//NONSGML v1.0//EN
CALSCALE:GREGORIAN
METHOD:PUBLISH
X-ORIGINAL-URL:https://claje.asso.fr
X-WR-CALDESC:Évènements pour Claje
REFRESH-INTERVAL;VALUE=DURATION:PT1H
X-Robots-Tag:noindex
X-PUBLISHED-TTL:PT1H
BEGIN:VTIMEZONE
TZID:Europe/Paris
BEGIN:DAYLIGHT
TZOFFSETFROM:+0100
TZOFFSETTO:+0200
TZNAME:CEST
DTSTART:20230326T010000
END:DAYLIGHT
BEGIN:STANDARD
TZOFFSETFROM:+0200
TZOFFSETTO:+0100
TZNAME:CET
DTSTART:20231029T010000
END:STANDARD
BEGIN:DAYLIGHT
TZOFFSETFROM:+0100
TZOFFSETTO:+0200
TZNAME:CEST
DTSTART:20240331T010000
END:DAYLIGHT
BEGIN:STANDARD
TZOFFSETFROM:+0200
TZOFFSETTO:+0100
TZNAME:CET
DTSTART:20241027T010000
END:STANDARD
BEGIN:DAYLIGHT
TZOFFSETFROM:+0100
TZOFFSETTO:+0200
TZNAME:CEST
DTSTART:20250330T010000
END:DAYLIGHT
BEGIN:STANDARD
TZOFFSETFROM:+0200
TZOFFSETTO:+0100
TZNAME:CET
DTSTART:20251026T010000
END:STANDARD
END:VTIMEZONE
BEGIN:VEVENT
DTSTART;TZID=Europe/Paris:20241017T190000
DTEND;TZID=Europe/Paris:20241017T213000
DTSTAMP:20260419T205508
CREATED:20241001T135619Z
LAST-MODIFIED:20241001T135713Z
UID:10000418-1729191600-1729200600@claje.asso.fr
SUMMARY:Danse et santé mentale
DESCRIPTION:Dans le cadre des Semaines d’Information sur la Santé Mentale\, le centre Paris anim’ Annie Fratellini organise une soirée autour de la danse et la santé mentale. \n\n\n\nL’édition 2024 des SISM – Semaines d’Information sur la Santé Mentale aura lieu du 07 au 20 octobre 2024\, autour de la thématique « En mouvement pour notre santé mentale ». A cette occasion\, le Centre Annie Fratellini vous propose une soirée « Danse & santé mentale »\, pour explorer la puissance de cet art et ses bienfaits pour la santé physique et mentale. \nAu programme : \n19h à 20h30 : Ciné débat avec la projection du film documentaire « Danse Demain » \n20h30-21h30 : atelier initiation danse intuitive et expression corporelle (aucun prérequis nécessaire) \n  \n\n\n\n\n\n\n\nJeudi 17 octobre 2024 au centre Annie Fratellini Dès 19h00 Gratuit – Réservation obligatoire auprès du centre
URL:https://claje.asso.fr/event/danse-et-sante-mentale/
LOCATION:CPA Annie Fratellini *\, 36 quai de la Rapée\, Paris\, 75012\, France
CATEGORIES:Atelier,convivialité,CPA Annie Fralellini,Evènement,Projection,Soirée
ATTACH;FMTTYPE=image/png:https://claje.asso.fr/wp-content/uploads/2024/10/sante-mentale-site.png
END:VEVENT
BEGIN:VEVENT
DTSTART;TZID=Europe/Paris:20241023T193000
DTEND;TZID=Europe/Paris:20241023T213000
DTSTAMP:20260419T205508
CREATED:20240917T142947Z
LAST-MODIFIED:20240917T143045Z
UID:10000405-1729711800-1729719000@claje.asso.fr
SUMMARY:[Stage] La samba s'invite à Bessie
DESCRIPTION:Nouveau stage proposé par le CPA Bessie Smith\, laissez vous emporter par la danse Samba ! Plongez au cœur de la culture brésilienne avec notre stage de Samba no Pé ! Que vous soyez un débutant enthousiaste ou un danseur expérimenté\, notre programme offre une immersion complète dans cet art captivant. Pendant notre stage\, vous apprendrez les mouvements caractéristiques de la Samba no Pé\, des déhanchements sensuels aux pas rythmiques complexes. Nos instructeurs passionnés vous guideront à travers chaque étape\, vous aidant à perfectionner votre technique tout en explorant l’essence même de cette danse envoûtante.   \nPremière session : mercredi 23 octobre de 19h30 à 21h30 \n\nTarif selon QF / 18 ans et + \n\n\n\n\n\nInscriptions sur place ou en ligne \nS’inscrire en ligne
URL:https://claje.asso.fr/event/stage-la-samba-sinvite-a-bessie/
LOCATION:CPA Bessie Smith\, 19 rue Antoine Julien Hénard\, Paris 12\, 75012\, France
CATEGORIES:CPA Bessie Smith,Evènement,Stage
ATTACH;FMTTYPE=image/png:https://claje.asso.fr/wp-content/uploads/2024/09/samba-site.png
END:VEVENT
END:VCALENDAR