BEGIN:VCALENDAR
VERSION:2.0
PRODID:-//Claje - ECPv6.15.20//NONSGML v1.0//EN
CALSCALE:GREGORIAN
METHOD:PUBLISH
X-ORIGINAL-URL:https://claje.asso.fr
X-WR-CALDESC:Évènements pour Claje
REFRESH-INTERVAL;VALUE=DURATION:PT1H
X-Robots-Tag:noindex
X-PUBLISHED-TTL:PT1H
BEGIN:VTIMEZONE
TZID:Europe/Paris
BEGIN:DAYLIGHT
TZOFFSETFROM:+0100
TZOFFSETTO:+0200
TZNAME:CEST
DTSTART:20230326T010000
END:DAYLIGHT
BEGIN:STANDARD
TZOFFSETFROM:+0200
TZOFFSETTO:+0100
TZNAME:CET
DTSTART:20231029T010000
END:STANDARD
BEGIN:DAYLIGHT
TZOFFSETFROM:+0100
TZOFFSETTO:+0200
TZNAME:CEST
DTSTART:20240331T010000
END:DAYLIGHT
BEGIN:STANDARD
TZOFFSETFROM:+0200
TZOFFSETTO:+0100
TZNAME:CET
DTSTART:20241027T010000
END:STANDARD
BEGIN:DAYLIGHT
TZOFFSETFROM:+0100
TZOFFSETTO:+0200
TZNAME:CEST
DTSTART:20250330T010000
END:DAYLIGHT
BEGIN:STANDARD
TZOFFSETFROM:+0200
TZOFFSETTO:+0100
TZNAME:CET
DTSTART:20251026T010000
END:STANDARD
END:VTIMEZONE
BEGIN:VEVENT
DTSTART;TZID=Europe/Paris:20240918T190000
DTEND;TZID=Europe/Paris:20240918T210000
DTSTAMP:20260419T223715
CREATED:20240904T081816Z
LAST-MODIFIED:20240904T081823Z
UID:10000379-1726686000-1726693200@claje.asso.fr
SUMMARY:[Soirée] JAM Musique
DESCRIPTION:Le CPA Bessie Smith vous accueille le Mercredi 18 septembre pour une nouvelle soirée de Jam musique. \nVenez profiter d’une soirée de rencontres conviviales et musicales\, explorant les univers envoûtants du jazz\, du blues\, et des musiques du monde. \nVenez partager des moments uniques au son de la musique\, unissant passionnés et artistes dans une ambiance chaleureuse. Réservez la date pour une expérience inoubliable ! \nInfos pratiques :  \nTout public / entrée libre
URL:https://claje.asso.fr/event/soiree-jam-musique-7/
LOCATION:CPA Bessie Smith\, 19 rue Antoine Julien Hénard\, Paris 12\, 75012\, France
CATEGORIES:convivialité,CPA Bessie Smith,Evènement
ATTACH;FMTTYPE=image/png:https://claje.asso.fr/wp-content/uploads/2024/09/jam-septembre-2024.png
END:VEVENT
BEGIN:VEVENT
DTSTART;TZID=Europe/Paris:20240927T183000
DTEND;TZID=Europe/Paris:20240927T230000
DTSTAMP:20260419T223715
CREATED:20240925T150423Z
LAST-MODIFIED:20240925T150423Z
UID:10000408-1727461800-1727478000@claje.asso.fr
SUMMARY:[Concert] Back to School
DESCRIPTION:Pour cette nouvelle édition\, WHOGOTTEFLAME?! s’associe au collectif créatif Fait Avec Amour pour une soirée de rentrée riche en émotions ! Le format diffère\, pas de tremplin\, que des showcases de 6 artistes que vous connaissez ou découvrirez le 27 ! \nVendredi 27 septembre 2024\nDébut des concerts à 20h\nOuverture de la buvette à 18h30 \nTarifs: 7€ sur place ou 8€ en ligne \nRéserver en ligne
URL:https://claje.asso.fr/event/concert-back-to-school/
LOCATION:CPA Pina Bausch / La Ferronnerie\, 4 passage stinville\, Paris 12\, France\, 75012\, France
CATEGORIES:concert,Evènement,La Ferronnerie
ATTACH;FMTTYPE=image/png:https://claje.asso.fr/wp-content/uploads/2024/09/back2school.png
END:VEVENT
BEGIN:VEVENT
DTSTART;TZID=Europe/Paris:20240928T150000
DTEND;TZID=Europe/Paris:20240928T213000
DTSTAMP:20260419T223716
CREATED:20240917T091622Z
LAST-MODIFIED:20240917T091706Z
UID:10000401-1727535600-1727559000@claje.asso.fr
SUMMARY:Fête de Villiot 2024
DESCRIPTION:Comme chaque année\, le CPA Annie Fratellini ouvre la saison avec une fête conviviale dans le jardin de la résidence Villiot le 28 septembre2024. Au programme : des animations pour petits et grands\, un karaoké et une scène ouverte musicale et un un repas partagé pour clôturer la soirée dans la bonne humeur. Venez nombreux et nombreuses ! \n\nInfos pratiques\nSamedi 28 septembre 2024 Dès 15h\n\n\n\n\n\nEntrée libre / tout public
URL:https://claje.asso.fr/event/fete-de-villiot-2024/
LOCATION:CPA Annie Fratellini *\, 36 quai de la Rapée\, Paris\, 75012\, France
CATEGORIES:convivialité,CPA Annie Fralellini,Evènement
ATTACH;FMTTYPE=image/png:https://claje.asso.fr/wp-content/uploads/2024/09/fete-villiot.png
END:VEVENT
END:VCALENDAR