BEGIN:VCALENDAR
VERSION:2.0
PRODID:-//Claje - ECPv6.15.20//NONSGML v1.0//EN
CALSCALE:GREGORIAN
METHOD:PUBLISH
X-ORIGINAL-URL:https://claje.asso.fr
X-WR-CALDESC:Évènements pour Claje
REFRESH-INTERVAL;VALUE=DURATION:PT1H
X-Robots-Tag:noindex
X-PUBLISHED-TTL:PT1H
BEGIN:VTIMEZONE
TZID:Europe/Paris
BEGIN:DAYLIGHT
TZOFFSETFROM:+0100
TZOFFSETTO:+0200
TZNAME:CEST
DTSTART:20230326T010000
END:DAYLIGHT
BEGIN:STANDARD
TZOFFSETFROM:+0200
TZOFFSETTO:+0100
TZNAME:CET
DTSTART:20231029T010000
END:STANDARD
BEGIN:DAYLIGHT
TZOFFSETFROM:+0100
TZOFFSETTO:+0200
TZNAME:CEST
DTSTART:20240331T010000
END:DAYLIGHT
BEGIN:STANDARD
TZOFFSETFROM:+0200
TZOFFSETTO:+0100
TZNAME:CET
DTSTART:20241027T010000
END:STANDARD
BEGIN:DAYLIGHT
TZOFFSETFROM:+0100
TZOFFSETTO:+0200
TZNAME:CEST
DTSTART:20250330T010000
END:DAYLIGHT
BEGIN:STANDARD
TZOFFSETFROM:+0200
TZOFFSETTO:+0100
TZNAME:CET
DTSTART:20251026T010000
END:STANDARD
END:VTIMEZONE
BEGIN:VEVENT
DTSTART;TZID=Europe/Paris:20240406T140000
DTEND;TZID=Europe/Paris:20240406T180000
DTSTAMP:20260420T062553
CREATED:20240322T100840Z
LAST-MODIFIED:20240322T101142Z
UID:10000284-1712412000-1712426400@claje.asso.fr
SUMMARY:[Forum] Les vacances\, c’est la kiffance
DESCRIPTION:Un Forum dédié aux astuces et bons plans pour les vacances pour partir ou simplement profiter d’un été à Paris. La Ville de Paris organise le 6 avril 2024 de 14h à 18h\, à QJ\, un forum vacances à destination des jeunes pour préparer leurs futurs projets d’évasion et présenter les opportunités d’activités et de loisirs à l’approche de l’été. Lors de ce forum vous pourrez\, \n\n\nDécouvrir les différentes aides et dispositifs existants ;\n\n\n\nEtre accompagné.e et Faciliter votre départ en vacances ;\n\n\n\nConnaître les opportunités de l’été à Paris et dans un contexte de Jeux Olympiques et Paralympiques\n\n\n\nEchanger sur les expériences de voyage…\n\n\n  Samedi 6 avril à 14h00 Quartier Jeunes 4 place du Louvre\, 75001 Paris
URL:https://claje.asso.fr/event/forum-les-vacances-cest-la-kiffance/
LOCATION:Quartier Jeunes\, 4 place du Louvre\, Paris\, 75001
CATEGORIES:Evènement,Jeunes
ATTACH;FMTTYPE=image/png:https://claje.asso.fr/wp-content/uploads/2024/03/vacances-kiffance.png
END:VEVENT
BEGIN:VEVENT
DTSTART;TZID=Europe/Paris:20240420T110000
DTEND;TZID=Europe/Paris:20240420T210000
DTSTAMP:20260420T062553
CREATED:20240322T094429Z
LAST-MODIFIED:20240322T094429Z
UID:10000283-1713610800-1713646800@claje.asso.fr
SUMMARY:Paris s'anime et fête les Jeux
DESCRIPTION:A 100 jours des Jeux\, la Direction de la Jeunesse et des Sports de la Ville de Paris et les équipes d’animation de ses centres Paris Anim’ et Espaces Paris Jeunes vous invitent à «Paris s’anime et fête les Jeux»\, une journée d’animations sportives\, culturelles et d’information clôturée par un concert !\n\n\nENTRE 11 H ET 18 H : ANIMATIONS SPORTIVES ET CULTURELLES\n \n\n 	Handisports avec 60 mètres\, boccia avec la fédération handisports\,\n \n 	Basket 3×3\, tennis de table\, laser run\, breakdance\,\n \n 	Sports en réalité virtuelle\,\n \n 	Expositions sportives et fresque participative\,\n \n 	Atelier cirque.\n\n \nENTRE 11 H ET 18 H : VILLAGE INFORMATION\n \n\n 	Rencontre avec les centres Paris Anim’ et les Espaces Paris Jeunes\,\n \n 	Présentation des dispositifs d’aide de la Ville de Paris pour les jeunes\,\n \n 	Orientation professionnelle (casques de VR\, CV-LM) et offres d’emploi pour les jeunes\,\n \n 	Animations sur les Jeux Olympiques et Paralympiques\,\n \n 	Animations santé\, bien-être\, santé mentale\, santé sexuelle.\n\n \nDE 14 H – 15 H : INITIATION ET REPETITION DE LA « DANSE DES JEUX »\n \nDE 16H30 – 17H : FLASHMOB DE LA « DANSE DES JEUX »\, DEMONSTRATION DE BREAKDANCE\n \nDE 17 H – 19 H : BATTLES DE BREAKDANCE\n \nDE 19 H – 21 H : CONCERT DE JEUNES TALENTS PARISIENS en partenariat avec Place to Be\n \nRESTAURATION SUR PLACE\n\nInfos pratiques\n \n\nLe samedi 20 avril 2024\nDe 11 h à 21 h\n\n \n\nStade Louis Lumière\n30 rue Louis Lumiere\, Paris 20e\n\n \n\nTout public
URL:https://claje.asso.fr/event/paris-sanime-et-fete-les-jeux/
LOCATION:Stade Louis Lumière\, 30 rue Louis Lumiere\, Paris 20\, 75020\, France
CATEGORIES:Evènement,Jeunes
ATTACH;FMTTYPE=image/png:https://claje.asso.fr/wp-content/uploads/2024/03/paris-sanim.png
END:VEVENT
BEGIN:VEVENT
DTSTART;TZID=Europe/Paris:20240427T140000
DTEND;TZID=Europe/Paris:20240427T170000
DTSTAMP:20260420T062553
CREATED:20240419T125650Z
LAST-MODIFIED:20240419T125650Z
UID:10000297-1714226400-1714237200@claje.asso.fr
SUMMARY:Cleaning  Day au CPA Annie Fratellini
DESCRIPTION:Après la Journée écolo du mois d’octobre\, le CPA Annie Fratellini réitère son opération de nettoyage conviviale\, le samedi 27 avril.\n\n \nProgramme :\n \n\n14h00-16h00 : Opération de nettoyage dans la résidence Villiot et le jardin organisée par le Groupement des locataires GLVR CLCV.\n\n \n\n16h00-17h00 : Ateliers et expositions et goûter participatif.\n\n \n\nApportez ce que vous fait plaisir et venez partager ce moment de convivialité\n\n\n\nSamedi 27 avril 2024\nDès 14h00\nGratuit\n\n \n\nAu CPA Annie Fratellini
URL:https://claje.asso.fr/event/cleaning-day-au-cpa-annie-fratellini/
CATEGORIES:convivialité,CPA Annie Fralellini,Evènement
ATTACH;FMTTYPE=image/png:https://claje.asso.fr/wp-content/uploads/2024/04/cleaning-day.png
END:VEVENT
END:VCALENDAR