BEGIN:VCALENDAR
VERSION:2.0
PRODID:-//Claje - ECPv6.15.20//NONSGML v1.0//EN
CALSCALE:GREGORIAN
METHOD:PUBLISH
X-WR-CALNAME:Claje
X-ORIGINAL-URL:https://claje.asso.fr
X-WR-CALDESC:Évènements pour Claje
REFRESH-INTERVAL;VALUE=DURATION:PT1H
X-Robots-Tag:noindex
X-PUBLISHED-TTL:PT1H
BEGIN:VTIMEZONE
TZID:Europe/Paris
BEGIN:DAYLIGHT
TZOFFSETFROM:+0100
TZOFFSETTO:+0200
TZNAME:CEST
DTSTART:20230326T010000
END:DAYLIGHT
BEGIN:STANDARD
TZOFFSETFROM:+0200
TZOFFSETTO:+0100
TZNAME:CET
DTSTART:20231029T010000
END:STANDARD
BEGIN:DAYLIGHT
TZOFFSETFROM:+0100
TZOFFSETTO:+0200
TZNAME:CEST
DTSTART:20240331T010000
END:DAYLIGHT
BEGIN:STANDARD
TZOFFSETFROM:+0200
TZOFFSETTO:+0100
TZNAME:CET
DTSTART:20241027T010000
END:STANDARD
BEGIN:DAYLIGHT
TZOFFSETFROM:+0100
TZOFFSETTO:+0200
TZNAME:CEST
DTSTART:20250330T010000
END:DAYLIGHT
BEGIN:STANDARD
TZOFFSETFROM:+0200
TZOFFSETTO:+0100
TZNAME:CET
DTSTART:20251026T010000
END:STANDARD
END:VTIMEZONE
BEGIN:VEVENT
DTSTART;TZID=Europe/Paris:20240306T150000
DTEND;TZID=Europe/Paris:20240306T170000
DTSTAMP:20260420T075112
CREATED:20240222T145818Z
LAST-MODIFIED:20240222T145818Z
UID:10000216-1709737200-1709744400@claje.asso.fr
SUMMARY:[Evénement] Les jeunes font société
DESCRIPTION:L’Antenne Maya Angelou vous convie à une rencontre le mercredi 6 mars 2024\, pour plonger dans une discussion approfondie sur le thème de l’harcèlement. \nLe projet “Les Jeunes font Société” réunit des jeunes en service civique engagés au sein de la Compagnie à l’Affût. \nIl a été constaté que les jeunes se sentent souvent peu légitimes lorsqu’il s’agit de s’exprimer sur la société qui les entoure. Ils éprouvent fréquemment le sentiment de ne pas être écoutés ou compris.\n\nL’objectif principal de cet événement est donc de : \n\nAmener les jeunes à s’interroger sur leur place dans la société en terme de citoyenneté\, de valeur\, de démocratie.\nCréer des espaces de paroles\, susciter l’expression et la confrontation des opinions\, interagir autour de la notion du vivre ensemble.\nCréer une dynamique d’échange et de mutualisation des savoirs intergénérationnelle pour s’enrichir mutuellement.\nMettre en avant l’écoute de l’autre.\nDévelopper la solidarité entre citoyen et partager des points de vue pour construire un lien social fort.\n\nInfos pratiques :\n\nTout public
URL:https://claje.asso.fr/event/evenement-les-jeunes-font-societe/
LOCATION:Antenne Maya Angelou\, 10 rue Erard\, Paris 12\, France\, 75012\, France
CATEGORIES:Antenne Maya Angelou,Evènement
ATTACH;FMTTYPE=image/jpeg:https://claje.asso.fr/wp-content/uploads/2024/02/les-jeunes-font-la-societe-1.jpg
END:VEVENT
BEGIN:VEVENT
DTSTART;TZID=Europe/Paris:20240315T200000
DTEND;TZID=Europe/Paris:20240315T200000
DTSTAMP:20260420T075112
CREATED:20240223T155616Z
LAST-MODIFIED:20240223T155616Z
UID:10000219-1710532800-1710532800@claje.asso.fr
SUMMARY:[8 mars] Spectacle "En Rose et noir"
DESCRIPTION:La compagnie Entre sorts propose une spectacle gratuit autour de la charge mentale des femmes au CPA Annie Fratellini.\n\n \n\nVanessa n’est pas un super héros et pourtant elle en a tout l’air\, elle gère boulot\, enfants\, maisons d’une facilité déconcertante. Elle a un mari adorable\, des parents aidants \, des amis mais c’est elle qui doit tout porter à bout de bras mais jusqu’à quand va-t-elle pouvoir tout supporter ?\n\n \n\nUn spectacle participatif qui questionne sur la charge mentale des femmes\, le rôle et la responsabilité de chacun et de son bien-être.\n\n \n\nVoir le site de la compagnie\n\n\n\n\nInfos pratiques\n \n\nVendredi 15 mars à 20h00\nGratuit\, inscription obligatoire auprès du CPA Annie Fratellini\n\n 
URL:https://claje.asso.fr/event/8-mars-spectacle-en-rose-et-noir/
LOCATION:CPA Annie Fratellini *\, 36 quai de la Rapée\, Paris\, 75012\, France
CATEGORIES:CPA Annie Fralellini,Evènement,Spectacle
ATTACH;FMTTYPE=image/png:https://claje.asso.fr/wp-content/uploads/2024/02/charge-mentale.png
END:VEVENT
BEGIN:VEVENT
DTSTART;TZID=Europe/Paris:20240320T200000
DTEND;TZID=Europe/Paris:20240320T220000
DTSTAMP:20260420T075112
CREATED:20240306T094040Z
LAST-MODIFIED:20240306T094040Z
UID:10000235-1710964800-1710972000@claje.asso.fr
SUMMARY:[Spectacle]POST ! UNE PIECE MUSICALE
DESCRIPTION:La Ferronnerie vous invite à découvrir POST!\, une pièce musicale proposé par la compagnie Side by side.\n\n \n\nPOST ! est une création originale écrite et mise en scène par Victor Bourigault\, sur des musiques et paroles de Alexandre Todorovic\, et produite par la compagnie Side by Side.\n\n \n\nPOST ! est une pièce musicale en 4 épisodes\, 4 histoires qui parlent de nos vies modernes confrontées à de multiples révolutions technologiques.\n\nOscillant entre science-fiction et comédie\, le spectacle joue avec les codes de la dystopie en mettant en scène différentes interfaces virtuelles\, façon Black Mirror\, dans une atmosphère grinçante et décalée.\n\n \n\nDes sorties de résidence se tiendront le mercredi 20 mars (20h00) et le jeudi 21 mars (20h00)\, à La Ferronnerie (Centre Paris Anim Pina Bausch/Montgallet\, au 4 passage Stinville\, 75012 Paris).\n\n \n\nLivret et mise en scène : Victor Bourigault\nMusique et paroles\, piano : Alexandre Todorovic\nCréation Lumière : Charlotte Moussié\nChorégraphies : Maud Saint-Jean\, Ellie Van Gele\nProduction : Rozenn Carrio\nAffiche : Vincent Penru / Resonate\nAvec : Rozenn Carrio\, Laure-Marie Harant\, Stanislas de Lachapelle\, Thibaut Rérolle\, Maud Saint-Jean\, Romain Soul\, Ellie Van Gele\, Anya Zibulski
URL:https://claje.asso.fr/event/spectaclepost-une-piece-musicale/2024-03-20/
LOCATION:CPA Pina Bausch / La Ferronnerie\, 4 passage stinville\, Paris 12\, France\, 75012\, France
CATEGORIES:CPA Pina Bausch,Evènement,La Ferronnerie,Spectacle
END:VEVENT
BEGIN:VEVENT
DTSTART;TZID=Europe/Paris:20240321T200000
DTEND;TZID=Europe/Paris:20240321T220000
DTSTAMP:20260420T075112
CREATED:20240306T094040Z
LAST-MODIFIED:20240306T094040Z
UID:10000236-1711051200-1711058400@claje.asso.fr
SUMMARY:[Spectacle]POST ! UNE PIECE MUSICALE
DESCRIPTION:La Ferronnerie vous invite à découvrir POST!\, une pièce musicale proposé par la compagnie Side by side.\n\n \n\nPOST ! est une création originale écrite et mise en scène par Victor Bourigault\, sur des musiques et paroles de Alexandre Todorovic\, et produite par la compagnie Side by Side.\n\n \n\nPOST ! est une pièce musicale en 4 épisodes\, 4 histoires qui parlent de nos vies modernes confrontées à de multiples révolutions technologiques.\n\nOscillant entre science-fiction et comédie\, le spectacle joue avec les codes de la dystopie en mettant en scène différentes interfaces virtuelles\, façon Black Mirror\, dans une atmosphère grinçante et décalée.\n\n \n\nDes sorties de résidence se tiendront le mercredi 20 mars (20h00) et le jeudi 21 mars (20h00)\, à La Ferronnerie (Centre Paris Anim Pina Bausch/Montgallet\, au 4 passage Stinville\, 75012 Paris).\n\n \n\nLivret et mise en scène : Victor Bourigault\nMusique et paroles\, piano : Alexandre Todorovic\nCréation Lumière : Charlotte Moussié\nChorégraphies : Maud Saint-Jean\, Ellie Van Gele\nProduction : Rozenn Carrio\nAffiche : Vincent Penru / Resonate\nAvec : Rozenn Carrio\, Laure-Marie Harant\, Stanislas de Lachapelle\, Thibaut Rérolle\, Maud Saint-Jean\, Romain Soul\, Ellie Van Gele\, Anya Zibulski
URL:https://claje.asso.fr/event/spectaclepost-une-piece-musicale/2024-03-21/
LOCATION:CPA Pina Bausch / La Ferronnerie\, 4 passage stinville\, Paris 12\, France\, 75012\, France
CATEGORIES:CPA Pina Bausch,Evènement,La Ferronnerie,Spectacle
END:VEVENT
END:VCALENDAR