BEGIN:VCALENDAR
VERSION:2.0
PRODID:-//Claje - ECPv6.15.20//NONSGML v1.0//EN
CALSCALE:GREGORIAN
METHOD:PUBLISH
X-ORIGINAL-URL:https://claje.asso.fr
X-WR-CALDESC:Évènements pour Claje
REFRESH-INTERVAL;VALUE=DURATION:PT1H
X-Robots-Tag:noindex
X-PUBLISHED-TTL:PT1H
BEGIN:VTIMEZONE
TZID:Europe/Paris
BEGIN:DAYLIGHT
TZOFFSETFROM:+0100
TZOFFSETTO:+0200
TZNAME:CEST
DTSTART:20230326T010000
END:DAYLIGHT
BEGIN:STANDARD
TZOFFSETFROM:+0200
TZOFFSETTO:+0100
TZNAME:CET
DTSTART:20231029T010000
END:STANDARD
BEGIN:DAYLIGHT
TZOFFSETFROM:+0100
TZOFFSETTO:+0200
TZNAME:CEST
DTSTART:20240331T010000
END:DAYLIGHT
BEGIN:STANDARD
TZOFFSETFROM:+0200
TZOFFSETTO:+0100
TZNAME:CET
DTSTART:20241027T010000
END:STANDARD
BEGIN:DAYLIGHT
TZOFFSETFROM:+0100
TZOFFSETTO:+0200
TZNAME:CEST
DTSTART:20250330T010000
END:DAYLIGHT
BEGIN:STANDARD
TZOFFSETFROM:+0200
TZOFFSETTO:+0100
TZNAME:CET
DTSTART:20251026T010000
END:STANDARD
END:VTIMEZONE
BEGIN:VEVENT
DTSTART;TZID=Europe/Paris:20240629T100000
DTEND;TZID=Europe/Paris:20240629T113000
DTSTAMP:20260419T211928
CREATED:20240222T110628Z
LAST-MODIFIED:20240222T110628Z
UID:10000212-1719655200-1719660600@claje.asso.fr
SUMMARY:[Atelier] Familles & images
DESCRIPTION:Le CPA Annie Fratellini vous convie à un atelier captivant intitulé « Famille & Images »\, organisé en collaboration avec Crok Ciné. \nPlongez dans l’univers de l’image à travers une expérience enrichissante où la projection\, le quiz et l’atelier se combinent pour offrir aux familles un moment de partage\, de création et de découverte. \nRejoignez-nous pour explorer ensemble les multiples facettes de l’art visuel et vivre une expérience mémorable ! \nProchaines dates : \n\nSamedi 16 mars 2024\nSamedi 25 mai 2024\nSamedi 29 juin 2024\n\nInscrivez-vous dès maintenant pour réserver votre place ! \nInfos pratiques :  \n0-6 ans
URL:https://claje.asso.fr/event/atelier-familles-images-3/
LOCATION:CPA Annie Fratellini *\, 36 quai de la Rapée\, Paris\, 75012\, France
CATEGORIES:Atelier,CPA Annie Fralellini
ATTACH;FMTTYPE=image/jpeg:https://claje.asso.fr/wp-content/uploads/2024/02/familles-et-imagess.jpg
END:VEVENT
BEGIN:VEVENT
DTSTART;TZID=Europe/Paris:20240629T103000
DTEND;TZID=Europe/Paris:20240629T113000
DTSTAMP:20260419T211928
CREATED:20231207T115909Z
LAST-MODIFIED:20231207T115913Z
UID:10000158-1719657000-1719660600@claje.asso.fr
SUMMARY:[Atelier] Lectures pour les 3-6 ans
DESCRIPTION:Cet atelier lecture est dédiée aux enfants de 3 à 6 ans. \nChut… L’heure du conte a sonné ! Installe-toi confortablement\, l’histoire va bientôt commencer. Quelles nouvelles aventures allons-nous te raconter ? Une fois par mois\, accompagné de tes parents\, grands-parents ou de ta nounou\, découvre des histoires magiques\, marrantes\, surprenantes et parfois même effrayantes… \n3-6 ans\n1€ par séance après adhésion de 2€\n1 samedi par mois\nDe 10h30 à 11h30
URL:https://claje.asso.fr/event/atelier-lectures-pour-les-3-6-ans-10/
LOCATION:CPA Annie Fratellini *\, 36 quai de la Rapée\, Paris\, 75012\, France
CATEGORIES:CPA Annie Fralellini
ATTACH;FMTTYPE=image/jpeg:https://claje.asso.fr/wp-content/uploads/2023/09/lectures.jpg
END:VEVENT
END:VCALENDAR