BEGIN:VCALENDAR
VERSION:2.0
PRODID:-//Claje - ECPv6.15.20//NONSGML v1.0//EN
CALSCALE:GREGORIAN
METHOD:PUBLISH
X-ORIGINAL-URL:https://claje.asso.fr
X-WR-CALDESC:Évènements pour Claje
REFRESH-INTERVAL;VALUE=DURATION:PT1H
X-Robots-Tag:noindex
X-PUBLISHED-TTL:PT1H
BEGIN:VTIMEZONE
TZID:Europe/Paris
BEGIN:DAYLIGHT
TZOFFSETFROM:+0100
TZOFFSETTO:+0200
TZNAME:CEST
DTSTART:20230326T010000
END:DAYLIGHT
BEGIN:STANDARD
TZOFFSETFROM:+0200
TZOFFSETTO:+0100
TZNAME:CET
DTSTART:20231029T010000
END:STANDARD
BEGIN:DAYLIGHT
TZOFFSETFROM:+0100
TZOFFSETTO:+0200
TZNAME:CEST
DTSTART:20240331T010000
END:DAYLIGHT
BEGIN:STANDARD
TZOFFSETFROM:+0200
TZOFFSETTO:+0100
TZNAME:CET
DTSTART:20241027T010000
END:STANDARD
BEGIN:DAYLIGHT
TZOFFSETFROM:+0100
TZOFFSETTO:+0200
TZNAME:CEST
DTSTART:20250330T010000
END:DAYLIGHT
BEGIN:STANDARD
TZOFFSETFROM:+0200
TZOFFSETTO:+0100
TZNAME:CET
DTSTART:20251026T010000
END:STANDARD
END:VTIMEZONE
BEGIN:VEVENT
DTSTART;TZID=Europe/Paris:20240525T100000
DTEND;TZID=Europe/Paris:20240525T113000
DTSTAMP:20260419T225848
CREATED:20240222T105233Z
LAST-MODIFIED:20240222T110417Z
UID:10000211-1716631200-1716636600@claje.asso.fr
SUMMARY:[Atelier] Familles & images
DESCRIPTION:Le CPA Annie Fratellini vous convie à un atelier captivant intitulé « Famille & Images »\, organisé en collaboration avec Crok Ciné. \nPlongez dans l’univers de l’image à travers une expérience enrichissante où la projection\, le quiz et l’atelier se combinent pour offrir aux familles un moment de partage\, de création et de découverte. \nRejoignez-nous pour explorer ensemble les multiples facettes de l’art visuel et vivre une expérience mémorable ! \nProchaines dates : \n\nSamedi 16 mars 2024\nSamedi 25 mai 2024\nSamedi 29 juin 2024\n\nInscrivez-vous dès maintenant pour réserver votre place ! \nInfos pratiques : \n0-6 ans
URL:https://claje.asso.fr/event/atelier-familles-images-2/
LOCATION:CPA Annie Fratellini *\, 36 quai de la Rapée\, Paris\, 75012\, France
CATEGORIES:Atelier,CPA Annie Fralellini
ATTACH;FMTTYPE=image/jpeg:https://claje.asso.fr/wp-content/uploads/2024/02/familles-et-imagess.jpg
END:VEVENT
BEGIN:VEVENT
DTSTART;TZID=Europe/Paris:20240525T100000
DTEND;TZID=Europe/Paris:20240525T170000
DTSTAMP:20260419T225848
CREATED:20240419T085921Z
LAST-MODIFIED:20240419T085921Z
UID:10000296-1716631200-1716656400@claje.asso.fr
SUMMARY:Vide Grenier
DESCRIPTION:Le Vide Grenier de quartier revient rue Henri Desgrange\, le samedi 25 mai 2024. \nAu programme : une buvette\, des stands associatifs\, de la musique \,des animations de rue pour les petits et les grands… et des milliers d’objets à chiner ! \nSi vous souhaitez réserver un emplacement\, contactez le CPA Annie Fratellini à partir du 22 avril 2024 \n 
URL:https://claje.asso.fr/event/vide-grenier/
LOCATION:CPA Annie Fratellini *\, 36 quai de la Rapée\, Paris\, 75012\, France
CATEGORIES:convivialité,CPA Annie Fralellini,Evènement
ATTACH;FMTTYPE=image/png:https://claje.asso.fr/wp-content/uploads/2024/04/vide-grenier.png
END:VEVENT
END:VCALENDAR