BEGIN:VCALENDAR
VERSION:2.0
PRODID:-//Claje - ECPv6.15.20//NONSGML v1.0//EN
CALSCALE:GREGORIAN
METHOD:PUBLISH
X-WR-CALNAME:Claje
X-ORIGINAL-URL:https://claje.asso.fr
X-WR-CALDESC:Évènements pour Claje
REFRESH-INTERVAL;VALUE=DURATION:PT1H
X-Robots-Tag:noindex
X-PUBLISHED-TTL:PT1H
BEGIN:VTIMEZONE
TZID:Europe/Paris
BEGIN:DAYLIGHT
TZOFFSETFROM:+0100
TZOFFSETTO:+0200
TZNAME:CEST
DTSTART:20230326T010000
END:DAYLIGHT
BEGIN:STANDARD
TZOFFSETFROM:+0200
TZOFFSETTO:+0100
TZNAME:CET
DTSTART:20231029T010000
END:STANDARD
BEGIN:DAYLIGHT
TZOFFSETFROM:+0100
TZOFFSETTO:+0200
TZNAME:CEST
DTSTART:20240331T010000
END:DAYLIGHT
BEGIN:STANDARD
TZOFFSETFROM:+0200
TZOFFSETTO:+0100
TZNAME:CET
DTSTART:20241027T010000
END:STANDARD
BEGIN:DAYLIGHT
TZOFFSETFROM:+0100
TZOFFSETTO:+0200
TZNAME:CEST
DTSTART:20250330T010000
END:DAYLIGHT
BEGIN:STANDARD
TZOFFSETFROM:+0200
TZOFFSETTO:+0100
TZNAME:CET
DTSTART:20251026T010000
END:STANDARD
END:VTIMEZONE
BEGIN:VEVENT
DTSTART;TZID=Europe/Paris:20240502T100000
DTEND;TZID=Europe/Paris:20240502T110000
DTSTAMP:20260419T225745
CREATED:20231122T143516Z
LAST-MODIFIED:20231122T143516Z
UID:10000142-1714644000-1714647600@claje.asso.fr
SUMMARY:[Parentalité] Exploration artistique
DESCRIPTION:Le CPA / Centre Social Annie Fratellini propose aux 6-36 mois un atelier d’exploration artistique sur le thème « corps et mouvements »\, en partenariat avec l’association Attrape Nuages \nDès son plus jeune âge\, l’enfant attrape\, observe\, écoute\, joue\, échange : il est en perpétuelle découverte et s’éveille au monde qui l’entoure. \nCes ateliers permettent d’une part au parent et à l’enfant\, de s’approprier la lecture d’un livre et sa compréhension de 3 façons différentes et à travers le sensoriel. \nD’autre part\, de mettre en valeur les ressources contenus dans le livre : ses possibilités\, ses interprétations\, les réponses qu’il peut donner\, le lien qu’il peut créer. \nInfos pratiques :  \n6-36 mois
URL:https://claje.asso.fr/event/parentalite-exploration-artistique-6/
LOCATION:CPA Annie Fratellini *\, 36 quai de la Rapée\, Paris\, 75012\, France
CATEGORIES:Atelier,CPA Annie Fralellini,Parentalité
ATTACH;FMTTYPE=image/png:https://claje.asso.fr/wp-content/uploads/2023/11/exploration-artisitque-23-24.png
END:VEVENT
BEGIN:VEVENT
DTSTART;TZID=Europe/Paris:20240502T190000
DTEND;TZID=Europe/Paris:20240502T210000
DTSTAMP:20260419T225745
CREATED:20240503T072427Z
LAST-MODIFIED:20240503T072427Z
UID:10000304-1714676400-1714683600@claje.asso.fr
SUMMARY:[Festin festif] Festival de Sambra Oilor en Roumanie
DESCRIPTION:Venez nombreux le jeudi 2 mai au CPA Annie Fratellini afin de partager un repas sur le thème du festival de Sambra Oilor en Roumanie. \nPlongez dans une expérience festive et culinaire qui vous mènera à la découverte d’une tradition culturelle différente chaque mois autour d’un repas partagé. \nApportez un plat typique d’Inde et dégustons ensemble ! \nInfos pratiques :  \nTout public / Les enfants doivent être accompagnés d’un parent
URL:https://claje.asso.fr/event/festin-festif-festival-de-sambra-oilor-en-roumanie/
LOCATION:CPA Annie Fratellini *\, 36 quai de la Rapée\, Paris\, 75012\, France
CATEGORIES:convivialité,CPA Annie Fralellini
ATTACH;FMTTYPE=image/png:https://claje.asso.fr/wp-content/uploads/2024/05/festin-festif-roumanie.png
END:VEVENT
BEGIN:VEVENT
DTSTART;TZID=Europe/Paris:20240502T190000
DTEND;TZID=Europe/Paris:20240502T213000
DTSTAMP:20260419T225745
CREATED:20231123T144232Z
LAST-MODIFIED:20231123T144232Z
UID:10000151-1714676400-1714685400@claje.asso.fr
SUMMARY:[Convivialité] Festin festif
DESCRIPTION:Venez tous les mois participer à un festin festif au CPA Annie Fratellini. \nFestin festif est une invitation à célébrer les festivités du monde entier autour d’un repas partagé. \nPlongez dans une expérience festive et culinaire qui vous mènera à la découverte d’une tradition culturelle différente chaque mois. \nProgrammation :\n\n24 novembre : USA – Thanksgiving\n15 décembre : Egypte – Noel\n11 janvier : Maroc – La fête des amandiers\n22 février : Chine – Fête des lanternes\n29 mars : Inde – Holi\n25 avril : Catalogne – Sant Jordi\n2 mai : Roumanie – festival de Sambra Oilor\n27 juin : Pérou – Fête du soleil\n\nInfos pratiques :  \nInscription obligatoire
URL:https://claje.asso.fr/event/convivialite-festin-festif-6/
LOCATION:CPA Annie Fratellini *\, 36 quai de la Rapée\, Paris\, 75012\, France
CATEGORIES:convivialité,CPA Annie Fralellini
ATTACH;FMTTYPE=image/jpeg:https://claje.asso.fr/wp-content/uploads/2023/11/festin-festif.jpg
END:VEVENT
END:VCALENDAR