BEGIN:VCALENDAR
VERSION:2.0
PRODID:-//Claje - ECPv6.15.20//NONSGML v1.0//EN
CALSCALE:GREGORIAN
METHOD:PUBLISH
X-WR-CALNAME:Claje
X-ORIGINAL-URL:https://claje.asso.fr
X-WR-CALDESC:Évènements pour Claje
REFRESH-INTERVAL;VALUE=DURATION:PT1H
X-Robots-Tag:noindex
X-PUBLISHED-TTL:PT1H
BEGIN:VTIMEZONE
TZID:Europe/Paris
BEGIN:DAYLIGHT
TZOFFSETFROM:+0100
TZOFFSETTO:+0200
TZNAME:CEST
DTSTART:20230326T010000
END:DAYLIGHT
BEGIN:STANDARD
TZOFFSETFROM:+0200
TZOFFSETTO:+0100
TZNAME:CET
DTSTART:20231029T010000
END:STANDARD
BEGIN:DAYLIGHT
TZOFFSETFROM:+0100
TZOFFSETTO:+0200
TZNAME:CEST
DTSTART:20240331T010000
END:DAYLIGHT
BEGIN:STANDARD
TZOFFSETFROM:+0200
TZOFFSETTO:+0100
TZNAME:CET
DTSTART:20241027T010000
END:STANDARD
BEGIN:DAYLIGHT
TZOFFSETFROM:+0100
TZOFFSETTO:+0200
TZNAME:CEST
DTSTART:20250330T010000
END:DAYLIGHT
BEGIN:STANDARD
TZOFFSETFROM:+0200
TZOFFSETTO:+0100
TZNAME:CET
DTSTART:20251026T010000
END:STANDARD
END:VTIMEZONE
BEGIN:VEVENT
DTSTART;TZID=Europe/Paris:20240330T103000
DTEND;TZID=Europe/Paris:20240330T113000
DTSTAMP:20260420T035151
CREATED:20230905T131302Z
LAST-MODIFIED:20230905T131302Z
UID:10000052-1711794600-1711798200@claje.asso.fr
SUMMARY:[Atelier] Lectures pour les 3-6 ans
DESCRIPTION:Cet atelier lecture est dédiée aux enfants de 3 à 6 ans. \nChut… L’heure du conte a sonné ! Installe-toi confortablement\, l’histoire va bientôt commencer. Quelles nouvelles aventures allons-nous te raconter ? Une fois par mois\, accompagné de tes parents\, grands-parents ou de ta nounou\, découvre des histoires magiques\, marrantes\, surprenantes et parfois même effrayantes… \n3-6 ans\n1€ par séance après adhésion de 2€\n1 samedi par mois\nDe 10h30 à 11h30
URL:https://claje.asso.fr/event/atelier-lectures-pour-les-3-6-ans-6/
LOCATION:CPA Annie Fratellini *\, 36 quai de la Rapée\, Paris\, 75012\, France
CATEGORIES:Atelier,CPA Annie Fralellini
ATTACH;FMTTYPE=image/jpeg:https://claje.asso.fr/wp-content/uploads/2023/09/lectures.jpg
END:VEVENT
END:VCALENDAR