BEGIN:VCALENDAR
VERSION:2.0
PRODID:-//Claje - ECPv6.15.20//NONSGML v1.0//EN
CALSCALE:GREGORIAN
METHOD:PUBLISH
X-ORIGINAL-URL:https://claje.asso.fr
X-WR-CALDESC:Évènements pour Claje
REFRESH-INTERVAL;VALUE=DURATION:PT1H
X-Robots-Tag:noindex
X-PUBLISHED-TTL:PT1H
BEGIN:VTIMEZONE
TZID:Europe/Paris
BEGIN:DAYLIGHT
TZOFFSETFROM:+0100
TZOFFSETTO:+0200
TZNAME:CEST
DTSTART:20230326T010000
END:DAYLIGHT
BEGIN:STANDARD
TZOFFSETFROM:+0200
TZOFFSETTO:+0100
TZNAME:CET
DTSTART:20231029T010000
END:STANDARD
BEGIN:DAYLIGHT
TZOFFSETFROM:+0100
TZOFFSETTO:+0200
TZNAME:CEST
DTSTART:20240331T010000
END:DAYLIGHT
BEGIN:STANDARD
TZOFFSETFROM:+0200
TZOFFSETTO:+0100
TZNAME:CET
DTSTART:20241027T010000
END:STANDARD
BEGIN:DAYLIGHT
TZOFFSETFROM:+0100
TZOFFSETTO:+0200
TZNAME:CEST
DTSTART:20250330T010000
END:DAYLIGHT
BEGIN:STANDARD
TZOFFSETFROM:+0200
TZOFFSETTO:+0100
TZNAME:CET
DTSTART:20251026T010000
END:STANDARD
END:VTIMEZONE
BEGIN:VEVENT
DTSTART;TZID=Europe/Paris:20240111T100000
DTEND;TZID=Europe/Paris:20240111T110000
DTSTAMP:20260420T075805
CREATED:20230914T081829Z
LAST-MODIFIED:20230914T081829Z
UID:10000068-1704967200-1704970800@claje.asso.fr
SUMMARY:[Parentalité] Découverte Motricité libre
DESCRIPTION:Le CPA/Centre Social Annie Fratellini propose des ateliers de Motricité libre à destination des 6-36 mois\, en partenariat avec l’association MOME EN FAMILLE.\n\nA la découverte de la motricité libre\, venez en famille découvrir les capacités motrices de vos bébés\, dans un environnement adapté à leurs besoins\, selon les principes d’Emmi Pikler. Ce moment convivial vous permettra de rencontrer d’autres parents et des intervenants formés à la petite enfance. \nObjectifs des ateliers\nSavoir respecter et accompagner son bébé à son rythme. Apprendre à observer son bébé et découvrir comment l’accompagner dans son aventure motrice. \nInfos pratiques :  \n6-36 mois\n2€ par atelier et par famille\n2 jeudis par mois de 10h à 11h
URL:https://claje.asso.fr/event/parentalite-decouverte-motricite-libre-8/
LOCATION:CPA Annie Fratellini *\, 36 quai de la Rapée\, Paris\, 75012\, France
CATEGORIES:Atelier,CPA Annie Fralellini
ATTACH;FMTTYPE=image/jpeg:https://claje.asso.fr/wp-content/uploads/2023/09/motricite-libre-2.jpg
END:VEVENT
BEGIN:VEVENT
DTSTART;TZID=Europe/Paris:20240111T190000
DTEND;TZID=Europe/Paris:20240111T190000
DTSTAMP:20260420T075805
CREATED:20240107T155316Z
LAST-MODIFIED:20240107T155316Z
UID:10000169-1704999600-1704999600@claje.asso.fr
SUMMARY:[Expo] Christine Ratillon
DESCRIPTION:Venez découvrir le travail de Christine Ratillon du 8 au 31 janvier 2024 au CPA Annie Frattelini. \nChristine Ratillon nous entraîne dans son univers de couleurs et visions. Elle nous présente une sélection d’œuvres issues de ses différentes créations : des rêves abstraits et flamboyants aux douces images de chats en couleurs pastel\, ses formes et nuances chromatiques nous transportent \nChristine est passionnée par les contrastes colorés qu’elle ’interprète essentiellement par des couleurs audacieuses\, vibrantes et percutantes. \nSa représentation de l’espace se traduit autour d’une ambiance climatique et atmosphérique. La couleur n’est plus une simple matière\, elle est devenue langage\, un langage esthétique qui vient du créateur de l’œuvre. \nL’association de motifs ornementaux et de formes géométriques sont son inspiration première. \nInfos pratiques :  \nEntrée libre / Tout public
URL:https://claje.asso.fr/event/expo-christine-ratillon/
LOCATION:CPA Annie Fratellini *\, 36 quai de la Rapée\, Paris\, 75012\, France
CATEGORIES:CPA Annie Fralellini,Vernissage
ATTACH;FMTTYPE=image/jpeg:https://claje.asso.fr/wp-content/uploads/2023/12/expo-ratillon.jpg
END:VEVENT
BEGIN:VEVENT
DTSTART;TZID=Europe/Paris:20240111T190000
DTEND;TZID=Europe/Paris:20240111T213000
DTSTAMP:20260420T075805
CREATED:20231123T143810Z
LAST-MODIFIED:20231123T143810Z
UID:10000147-1704999600-1705008600@claje.asso.fr
SUMMARY:[Convivialité] Festin festif
DESCRIPTION:Venez tous les mois participer à un festin festif au CPA Annie Fratellini. \nFestin festif est une invitation à célébrer les festivités du monde entier autour d’un repas partagé. \nPlongez dans une expérience festive et culinaire qui vous mènera à la découverte d’une tradition culturelle différente chaque mois. \nProgrammation :\n\n24 novembre : USA – Thanksgiving\n15 décembre : Egypte – Noel\n11 janvier : Maroc – La fête des amandiers\n22 février : Chine – Fête des lanternes\n29 mars : Inde – Holi\n25 avril : Catalogne – Sant Jordi\n2 mai : Roumanie – festival de Sambra Oilor\n27 juin : Pérou – Fête du soleil\n\nInfos pratiques :  \nInscription obligatoire
URL:https://claje.asso.fr/event/convivialite-festin-festif-2/
LOCATION:CPA Annie Fratellini *\, 36 quai de la Rapée\, Paris\, 75012\, France
CATEGORIES:convivialité,CPA Annie Fralellini
ATTACH;FMTTYPE=image/jpeg:https://claje.asso.fr/wp-content/uploads/2023/11/festin-festif.jpg
END:VEVENT
END:VCALENDAR