BEGIN:VCALENDAR
VERSION:2.0
PRODID:-//Claje - ECPv6.15.20//NONSGML v1.0//EN
CALSCALE:GREGORIAN
METHOD:PUBLISH
X-WR-CALNAME:Claje
X-ORIGINAL-URL:https://claje.asso.fr
X-WR-CALDESC:Évènements pour Claje
REFRESH-INTERVAL;VALUE=DURATION:PT1H
X-Robots-Tag:noindex
X-PUBLISHED-TTL:PT1H
BEGIN:VTIMEZONE
TZID:Europe/Paris
BEGIN:DAYLIGHT
TZOFFSETFROM:+0100
TZOFFSETTO:+0200
TZNAME:CEST
DTSTART:20220327T010000
END:DAYLIGHT
BEGIN:STANDARD
TZOFFSETFROM:+0200
TZOFFSETTO:+0100
TZNAME:CET
DTSTART:20221030T010000
END:STANDARD
BEGIN:DAYLIGHT
TZOFFSETFROM:+0100
TZOFFSETTO:+0200
TZNAME:CEST
DTSTART:20230326T010000
END:DAYLIGHT
BEGIN:STANDARD
TZOFFSETFROM:+0200
TZOFFSETTO:+0100
TZNAME:CET
DTSTART:20231029T010000
END:STANDARD
BEGIN:DAYLIGHT
TZOFFSETFROM:+0100
TZOFFSETTO:+0200
TZNAME:CEST
DTSTART:20240331T010000
END:DAYLIGHT
BEGIN:STANDARD
TZOFFSETFROM:+0200
TZOFFSETTO:+0100
TZNAME:CET
DTSTART:20241027T010000
END:STANDARD
END:VTIMEZONE
BEGIN:VEVENT
DTSTART;TZID=Europe/Paris:20231216T100000
DTEND;TZID=Europe/Paris:20231216T200000
DTSTAMP:20260420T091506
CREATED:20231201T132727Z
LAST-MODIFIED:20231201T133036Z
UID:10000156-1702720800-1702756800@claje.asso.fr
SUMMARY:[Sortie] Marché de Noël de Reims
DESCRIPTION:Laissez-vous porter par l’esprit de Noël et venez découvrir le 3e plus grand marché de Noël de France. \n150 chalets vous attendent pour vous proposer spécialités régionales\, artisanat\, idées cadeaux et gourmandises. \nVous pourrez également en profiter pour découvrir et admirer le centre ville et la Cathédrale. \nDÉPART À 10H AU CPA ANNIE FRATELLINI (RETOUR À 20H) \nInscription sur place ou en ligne \nS’inscrire en ligne
URL:https://claje.asso.fr/event/sortie-marche-de-noel-de-reims/
LOCATION:CPA Annie Fratellini *\, 36 quai de la Rapée\, Paris\, 75012\, France
CATEGORIES:CPA Annie Fralellini,Sortie
ATTACH;FMTTYPE=image/png:https://claje.asso.fr/wp-content/uploads/2023/12/marche-noel.png
END:VEVENT
END:VCALENDAR