BEGIN:VCALENDAR
VERSION:2.0
PRODID:-//Claje - ECPv6.15.20//NONSGML v1.0//EN
CALSCALE:GREGORIAN
METHOD:PUBLISH
X-ORIGINAL-URL:https://claje.asso.fr
X-WR-CALDESC:Évènements pour Claje
REFRESH-INTERVAL;VALUE=DURATION:PT1H
X-Robots-Tag:noindex
X-PUBLISHED-TTL:PT1H
BEGIN:VTIMEZONE
TZID:Europe/Paris
BEGIN:DAYLIGHT
TZOFFSETFROM:+0100
TZOFFSETTO:+0200
TZNAME:CEST
DTSTART:20220327T010000
END:DAYLIGHT
BEGIN:STANDARD
TZOFFSETFROM:+0200
TZOFFSETTO:+0100
TZNAME:CET
DTSTART:20221030T010000
END:STANDARD
BEGIN:DAYLIGHT
TZOFFSETFROM:+0100
TZOFFSETTO:+0200
TZNAME:CEST
DTSTART:20230326T010000
END:DAYLIGHT
BEGIN:STANDARD
TZOFFSETFROM:+0200
TZOFFSETTO:+0100
TZNAME:CET
DTSTART:20231029T010000
END:STANDARD
BEGIN:DAYLIGHT
TZOFFSETFROM:+0100
TZOFFSETTO:+0200
TZNAME:CEST
DTSTART:20240331T010000
END:DAYLIGHT
BEGIN:STANDARD
TZOFFSETFROM:+0200
TZOFFSETTO:+0100
TZNAME:CET
DTSTART:20241027T010000
END:STANDARD
END:VTIMEZONE
BEGIN:VEVENT
DTSTART;TZID=Europe/Paris:20231123T100000
DTEND;TZID=Europe/Paris:20231123T110000
DTSTAMP:20260420T104526
CREATED:20230914T081218Z
LAST-MODIFIED:20230914T081218Z
UID:10000065-1700733600-1700737200@claje.asso.fr
SUMMARY:[Parentalité] Découverte Motricité libre
DESCRIPTION:Le CPA/Centre Social Annie Fratellini propose des ateliers de Motricité libre à destination des 6-36 mois\, en partenariat avec l’association MOME EN FAMILLE.\n\nA la découverte de la motricité libre\, venez en famille découvrir les capacités motrices de vos bébés\, dans un environnement adapté à leurs besoins\, selon les principes d’Emmi Pikler. Ce moment convivial vous permettra de rencontrer d’autres parents et des intervenants formés à la petite enfance. \nObjectifs des ateliers\nSavoir respecter et accompagner son bébé à son rythme. Apprendre à observer son bébé et découvrir comment l’accompagner dans son aventure motrice. \nInfos pratiques :  \n6-36 mois\n2€ par atelier et par famille\n2 jeudis par mois de 10h à 11h
URL:https://claje.asso.fr/event/parentalite-decouverte-motricite-libre-5/
LOCATION:CPA Annie Fratellini *\, 36 quai de la Rapée\, Paris\, 75012\, France
CATEGORIES:Atelier,CPA Annie Fralellini
ATTACH;FMTTYPE=image/jpeg:https://claje.asso.fr/wp-content/uploads/2023/09/motricite-libre-2.jpg
END:VEVENT
BEGIN:VEVENT
DTSTART;TZID=Europe/Paris:20231123T190000
DTEND;TZID=Europe/Paris:20231123T230000
DTSTAMP:20260420T104526
CREATED:20231106T135930Z
LAST-MODIFIED:20231106T135930Z
UID:10000133-1700766000-1700780400@claje.asso.fr
SUMMARY:[Ciné-débat]  Journée internationale de lutte contre les violences faites aux femmes
DESCRIPTION:Depuis 1999\, le 25 novembre est la Journée internationale de lutte contre les violences faites aux femmes. \nA cette occasion\, le Centre Annie Fratellini vous invite à une soirée ciné-débat autour du documentaire « Elle l’a bien cherché » qui raconte le douloureux parcours de quatre victimes de viol pour se faire entendre. \nLa projection sera suivie d’un petit temps d’échange et réflexion en présence d’associations engagées dans la lutte contre les violences faites aux femmes. \nJeudi 23 novembre\n19h00 \nGratuit sur inscription \nInscription au CPA
URL:https://claje.asso.fr/event/cine-debat-journee-internationale-de-lutte-contre-les-violences-faites-aux-femmes/
LOCATION:CPA Annie Fratellini *\, 36 quai de la Rapée\, Paris\, 75012\, France
CATEGORIES:CPA Annie Fralellini,Projection
ATTACH;FMTTYPE=image/png:https://claje.asso.fr/wp-content/uploads/2023/09/discrimination.png
END:VEVENT
END:VCALENDAR