BEGIN:VCALENDAR
VERSION:2.0
PRODID:-//Claje - ECPv6.15.20//NONSGML v1.0//EN
CALSCALE:GREGORIAN
METHOD:PUBLISH
X-ORIGINAL-URL:https://claje.asso.fr
X-WR-CALDESC:Évènements pour Claje
REFRESH-INTERVAL;VALUE=DURATION:PT1H
X-Robots-Tag:noindex
X-PUBLISHED-TTL:PT1H
BEGIN:VTIMEZONE
TZID:Europe/Paris
BEGIN:DAYLIGHT
TZOFFSETFROM:+0100
TZOFFSETTO:+0200
TZNAME:CEST
DTSTART:20220327T010000
END:DAYLIGHT
BEGIN:STANDARD
TZOFFSETFROM:+0200
TZOFFSETTO:+0100
TZNAME:CET
DTSTART:20221030T010000
END:STANDARD
BEGIN:DAYLIGHT
TZOFFSETFROM:+0100
TZOFFSETTO:+0200
TZNAME:CEST
DTSTART:20230326T010000
END:DAYLIGHT
BEGIN:STANDARD
TZOFFSETFROM:+0200
TZOFFSETTO:+0100
TZNAME:CET
DTSTART:20231029T010000
END:STANDARD
BEGIN:DAYLIGHT
TZOFFSETFROM:+0100
TZOFFSETTO:+0200
TZNAME:CEST
DTSTART:20240331T010000
END:DAYLIGHT
BEGIN:STANDARD
TZOFFSETFROM:+0200
TZOFFSETTO:+0100
TZNAME:CET
DTSTART:20241027T010000
END:STANDARD
END:VTIMEZONE
BEGIN:VEVENT
DTSTART;TZID=Europe/Paris:20231116T190000
DTEND;TZID=Europe/Paris:20231116T190000
DTSTAMP:20260420T104536
CREATED:20231106T102945Z
LAST-MODIFIED:20231106T104800Z
UID:10000130-1700161200-1700161200@claje.asso.fr
SUMMARY:[Ciné-Débat] Pour La vie
DESCRIPTION:Dans le cadre du Festival des fiertés\, le CPA Annie Fratellini propose une soirée ciné-débat avec l’intervention d’associations engagées contre les discriminations liées aux identités de genre\, autour de la projection de plusieurs courts-métrages. \nUne soirée ciné-débat avec l’intervention de Grey Pride – Association nationale de séniors LGBT+ et MAG Jeunes LGBT – Mouvement d’Affirmation des jeunes LGBT\, autour de la projection du documentaire «Pour La vie». En présence des réalisatrices du film Anne-Claire Dolivet et Aurelia Bloch. \nRésumé du film : \nMonique et Gysèle sont en couple depuis 37 ans\, Maryse et Michèle se sont rencontrées dans les années 70\, Alain et Jean-Marc militent depuis la première heure. Ils ont tous plus de 70 ans et font partie de la communauté LGBT. Ils ont vécu leurs premiers émois amoureux dans une France réactionnaire\, l’homosexualité était encore considérée comme un délit. Ils ont dû se battre contre la société et leur famille\, pour s’accepter. Aujourd’hui\, ils s’interrogent sur leur couple\, leur vieillesse et comment la conjuguer avec leur homosexualité. Ils n’ont qu’un souhait : ne pas retourner au placard au dernier chapitre de leur vie. \nJeudi 16 novembre\n19h00\nJeunes et adultes\ngratuit – réservation obligatoire \nRéservation auprès du CPA
URL:https://claje.asso.fr/event/soiree-cine-debat/
LOCATION:CPA Annie Fratellini *\, 36 quai de la Rapée\, Paris\, 75012\, France
CATEGORIES:CPA Annie Fralellini,Projection,Soirée
ATTACH;FMTTYPE=image/png:https://claje.asso.fr/wp-content/uploads/2023/09/festival-des-fiertes.png
END:VEVENT
END:VCALENDAR