BEGIN:VCALENDAR
VERSION:2.0
PRODID:-//Claje - ECPv6.15.20//NONSGML v1.0//EN
CALSCALE:GREGORIAN
METHOD:PUBLISH
X-ORIGINAL-URL:https://claje.asso.fr
X-WR-CALDESC:Évènements pour Claje
REFRESH-INTERVAL;VALUE=DURATION:PT1H
X-Robots-Tag:noindex
X-PUBLISHED-TTL:PT1H
BEGIN:VTIMEZONE
TZID:Europe/Paris
BEGIN:DAYLIGHT
TZOFFSETFROM:+0100
TZOFFSETTO:+0200
TZNAME:CEST
DTSTART:20220327T010000
END:DAYLIGHT
BEGIN:STANDARD
TZOFFSETFROM:+0200
TZOFFSETTO:+0100
TZNAME:CET
DTSTART:20221030T010000
END:STANDARD
BEGIN:DAYLIGHT
TZOFFSETFROM:+0100
TZOFFSETTO:+0200
TZNAME:CEST
DTSTART:20230326T010000
END:DAYLIGHT
BEGIN:STANDARD
TZOFFSETFROM:+0200
TZOFFSETTO:+0100
TZNAME:CET
DTSTART:20231029T010000
END:STANDARD
BEGIN:DAYLIGHT
TZOFFSETFROM:+0100
TZOFFSETTO:+0200
TZNAME:CEST
DTSTART:20240331T010000
END:DAYLIGHT
BEGIN:STANDARD
TZOFFSETFROM:+0200
TZOFFSETTO:+0100
TZNAME:CET
DTSTART:20241027T010000
END:STANDARD
END:VTIMEZONE
BEGIN:VEVENT
DTSTART;TZID=Europe/Paris:20231012T190000
DTEND;TZID=Europe/Paris:20231012T220000
DTSTAMP:20260420T120627
CREATED:20231006T125530Z
LAST-MODIFIED:20231006T125530Z
UID:10000106-1697137200-1697148000@claje.asso.fr
SUMMARY:CINÉ-DÉBAT : Tous humains
DESCRIPTION:Une soirée ciné-débat avec l’intervention d’associations et artistes engagés contre les discriminations autour de la projection d’extraits du film « HUMAN » de Yann Arthus-Bertrand.\n« Human » est un documentaire regroupant un ensemble de témoignages de personnes réparties sur l’ensemble de la planète Terre sur des situations de vie. Le réalisateur s’est appuyé sur des interviews de plus de 2 000 personnes dans 65 pays. \nLors du montage\, 110 interviews ont été choisies. Les thèmes abordés sont entre autres l’amour\, l’agriculture\, l’homosexualité ou l’immigration. \nJeudi 12 octobre\n19h00\njeunes\, adultes\ngratuit – réservation obligatoire
URL:https://claje.asso.fr/event/cine-debat-tous-humains/
LOCATION:CPA Annie Fratellini *\, 36 quai de la Rapée\, Paris\, 75012\, France
CATEGORIES:CPA Annie Fralellini,Evènement,Soirée
ATTACH;FMTTYPE=image/png:https://claje.asso.fr/wp-content/uploads/2023/09/discrimination.png
END:VEVENT
END:VCALENDAR