BEGIN:VCALENDAR
VERSION:2.0
PRODID:-//Claje - ECPv6.15.20//NONSGML v1.0//EN
CALSCALE:GREGORIAN
METHOD:PUBLISH
X-WR-CALNAME:Claje
X-ORIGINAL-URL:https://claje.asso.fr
X-WR-CALDESC:Évènements pour Claje
REFRESH-INTERVAL;VALUE=DURATION:PT1H
X-Robots-Tag:noindex
X-PUBLISHED-TTL:PT1H
BEGIN:VTIMEZONE
TZID:Europe/Paris
BEGIN:DAYLIGHT
TZOFFSETFROM:+0100
TZOFFSETTO:+0200
TZNAME:CEST
DTSTART:20220327T010000
END:DAYLIGHT
BEGIN:STANDARD
TZOFFSETFROM:+0200
TZOFFSETTO:+0100
TZNAME:CET
DTSTART:20221030T010000
END:STANDARD
BEGIN:DAYLIGHT
TZOFFSETFROM:+0100
TZOFFSETTO:+0200
TZNAME:CEST
DTSTART:20230326T010000
END:DAYLIGHT
BEGIN:STANDARD
TZOFFSETFROM:+0200
TZOFFSETTO:+0100
TZNAME:CET
DTSTART:20231029T010000
END:STANDARD
BEGIN:DAYLIGHT
TZOFFSETFROM:+0100
TZOFFSETTO:+0200
TZNAME:CEST
DTSTART:20240331T010000
END:DAYLIGHT
BEGIN:STANDARD
TZOFFSETFROM:+0200
TZOFFSETTO:+0100
TZNAME:CET
DTSTART:20241027T010000
END:STANDARD
END:VTIMEZONE
BEGIN:VEVENT
DTSTART;TZID=Europe/Paris:20231005T100000
DTEND;TZID=Europe/Paris:20231005T110000
DTSTAMP:20260420T133459
CREATED:20230914T080622Z
LAST-MODIFIED:20230914T080622Z
UID:10000062-1696500000-1696503600@claje.asso.fr
SUMMARY:[Parentalité ] Découverte Motricité libre
DESCRIPTION:Le CPA/Centre Social Annie Fratellini propose des ateliers de Motricité libre à destination des 6-36 mois\, en partenariat avec l’association MOME EN FAMILLE.\n\nA la découverte de la motricité libre\, venez en famille découvrir les capacités motrices de vos bébés\, dans un environnement adapté à leurs besoins\, selon les principes d’Emmi Pikler. Ce moment convivial vous permettra de rencontrer d’autres parents et des intervenants formés à la petite enfance. \nObjectifs des ateliers\nSavoir respecter et accompagner son bébé à son rythme. Apprendre à observer son bébé et découvrir comment l’accompagner dans son aventure motrice. \nInfos pratiques :  \n6-36 mois\n2€ par atelier et par famille\n2 jeudis par mois de 10h à 11h
URL:https://claje.asso.fr/event/parentalite-decouverte-motricite-libre-2/
LOCATION:CPA Annie Fratellini *\, 36 quai de la Rapée\, Paris\, 75012\, France
CATEGORIES:Atelier,CPA Annie Fralellini
ATTACH;FMTTYPE=image/jpeg:https://claje.asso.fr/wp-content/uploads/2023/09/motricite-libre-2.jpg
END:VEVENT
BEGIN:VEVENT
DTSTART;TZID=Europe/Paris:20231005T190000
DTEND;TZID=Europe/Paris:20231005T223000
DTSTAMP:20260420T133459
CREATED:20230925T123134Z
LAST-MODIFIED:20230925T123205Z
UID:10000094-1696532400-1696545000@claje.asso.fr
SUMMARY:[Vernissage] Résonnance terrestre
DESCRIPTION:Le CPA Fratellini propose met à l’honneur le travail d’Elsa Wolf du 2 au 31 octobre 2023. \nL’été 2022 a été le plus chaud jamais enregistré en Europe. Une série intense de canicules couplée à des conditions de sècheresse inhabituelles ont conduit à des incendies sans précédent dévastant nos espaces naturels. Ce constat alarmant fut le point de départ d’une aventure artistique\, animée par l’instinct\, l’énergie et la dynamique du monde à l’état brut. Elsa Wolf développe un art écologique à visée positive\, sensibilise l’opinion sur la beauté du monde et sa fragilité\, tentant de changer notre rapport à l’autre dans toutes ses dimensions\, à réactiver notre sensibilité et à élaborer une nouvelle culture du vivant. \n  \n« Inspirée par mes voyages en terres sauvages\, je compose avec fougue et souhaite transmettre un élan d’optimisme quant à la mission qui est la nôtre de préserver la planète pour les générations futures. Les couleurs sont omniprésentes dans mes toiles\, elles virevoltent et s’entrechoquent\, parfois se confondent. Il en ressort des toiles vivantes\, mettant en exergue des lieux parfois inaccessibles\, souvent irrésistibles. L’homme dans sa relation avec les éléments naturels\, s’invite dans mes tableaux\, cherchant à faire état de la grande fragilité du monde. » \n– Elsa Wolf –
URL:https://claje.asso.fr/event/vernissage-resonnance-terrestre/
LOCATION:CPA Annie Fratellini *\, 36 quai de la Rapée\, Paris\, 75012\, France
CATEGORIES:CPA Annie Fralellini,Exposition,Vernissage
ATTACH;FMTTYPE=image/png:https://claje.asso.fr/wp-content/uploads/2023/09/elsa-wolf.png
END:VEVENT
END:VCALENDAR