BEGIN:VCALENDAR
VERSION:2.0
PRODID:-//Claje - ECPv6.15.20//NONSGML v1.0//EN
CALSCALE:GREGORIAN
METHOD:PUBLISH
X-ORIGINAL-URL:https://claje.asso.fr
X-WR-CALDESC:Évènements pour Claje
REFRESH-INTERVAL;VALUE=DURATION:PT1H
X-Robots-Tag:noindex
X-PUBLISHED-TTL:PT1H
BEGIN:VTIMEZONE
TZID:Europe/Paris
BEGIN:DAYLIGHT
TZOFFSETFROM:+0100
TZOFFSETTO:+0200
TZNAME:CEST
DTSTART:20220327T010000
END:DAYLIGHT
BEGIN:STANDARD
TZOFFSETFROM:+0200
TZOFFSETTO:+0100
TZNAME:CET
DTSTART:20221030T010000
END:STANDARD
BEGIN:DAYLIGHT
TZOFFSETFROM:+0100
TZOFFSETTO:+0200
TZNAME:CEST
DTSTART:20230326T010000
END:DAYLIGHT
BEGIN:STANDARD
TZOFFSETFROM:+0200
TZOFFSETTO:+0100
TZNAME:CET
DTSTART:20231029T010000
END:STANDARD
BEGIN:DAYLIGHT
TZOFFSETFROM:+0100
TZOFFSETTO:+0200
TZNAME:CEST
DTSTART:20240331T010000
END:DAYLIGHT
BEGIN:STANDARD
TZOFFSETFROM:+0200
TZOFFSETTO:+0100
TZNAME:CET
DTSTART:20241027T010000
END:STANDARD
END:VTIMEZONE
BEGIN:VEVENT
DTSTART;TZID=Europe/Paris:20230914T190000
DTEND;TZID=Europe/Paris:20230914T220000
DTSTAMP:20260420T133720
CREATED:20230831T144828Z
LAST-MODIFIED:20230905T141404Z
UID:10000025-1694718000-1694728800@claje.asso.fr
SUMMARY:[Expo] Jamais vu de Alina Lutaeva
DESCRIPTION:Venez découvrir l’exposition « Jamais vu » de Alina Lutaeva en place du 4 au 30 septembre 2023 au CPA Annie Fratellini. \nJamais vu est un phénomène lorsque des choses bien connues et familières donnent à une personne l’impression de les voir pour la première fois. \nUne exposition solo consacrée au moment insaisissable du changement\, lorsque vous avez déjà cessé d’être ce que vous étiez\, mais que vous n’êtes pas encore devenu ce que vous devriez devenir. Une période au cours de laquelle\, pour une raison quelconque\, vous essayez d’étudier attentivement des fragments du passé. \nMais ils ne peuvent plus rien prédire. Toutes les choses auxquelles vous êtes habitué deviennent différentes. Des personnes qui vous entourent aux projets d’avenir. Vous essayez de les identifier et de les comparer avec ce que vous savez. Mais il s’avère que toute votre expérience n’a plus de sens. La nouvelle vie est peu à peu remplie de nouvelles images. Mais ils semblent d’un autre monde\, comme dans un rêve. \nGratuit / Tout public
URL:https://claje.asso.fr/event/expo-jamais-vu-de-alina-lutaeva/
LOCATION:CPA Annie Fratellini *\, 36 quai de la Rapée\, Paris\, 75012\, France
CATEGORIES:CPA Annie Fralellini,Exposition,Vernissage
ATTACH;FMTTYPE=image/jpeg:https://claje.asso.fr/wp-content/uploads/2023/08/jamais-vu-2-1.jpg
END:VEVENT
END:VCALENDAR