BEGIN:VCALENDAR
VERSION:2.0
PRODID:-//Claje - ECPv6.15.20//NONSGML v1.0//EN
CALSCALE:GREGORIAN
METHOD:PUBLISH
X-WR-CALNAME:Claje
X-ORIGINAL-URL:https://claje.asso.fr
X-WR-CALDESC:Évènements pour Claje
REFRESH-INTERVAL;VALUE=DURATION:PT1H
X-Robots-Tag:noindex
X-PUBLISHED-TTL:PT1H
BEGIN:VTIMEZONE
TZID:Europe/Paris
BEGIN:DAYLIGHT
TZOFFSETFROM:+0100
TZOFFSETTO:+0200
TZNAME:CEST
DTSTART:20230326T010000
END:DAYLIGHT
BEGIN:STANDARD
TZOFFSETFROM:+0200
TZOFFSETTO:+0100
TZNAME:CET
DTSTART:20231029T010000
END:STANDARD
BEGIN:DAYLIGHT
TZOFFSETFROM:+0100
TZOFFSETTO:+0200
TZNAME:CEST
DTSTART:20240331T010000
END:DAYLIGHT
BEGIN:STANDARD
TZOFFSETFROM:+0200
TZOFFSETTO:+0100
TZNAME:CET
DTSTART:20241027T010000
END:STANDARD
BEGIN:DAYLIGHT
TZOFFSETFROM:+0100
TZOFFSETTO:+0200
TZNAME:CEST
DTSTART:20250330T010000
END:DAYLIGHT
BEGIN:STANDARD
TZOFFSETFROM:+0200
TZOFFSETTO:+0100
TZNAME:CET
DTSTART:20251026T010000
END:STANDARD
END:VTIMEZONE
BEGIN:VEVENT
DTSTART;TZID=Europe/Paris:20240704T100000
DTEND;TZID=Europe/Paris:20240704T110000
DTSTAMP:20260419T162237
CREATED:20230914T090746Z
LAST-MODIFIED:20230914T090746Z
UID:10000080-1720087200-1720090800@claje.asso.fr
SUMMARY:[Parentalité] Découverte Motricité libre
DESCRIPTION:Le CPA/Centre Social Annie Fratellini propose des ateliers de Motricité libre à destination des 6-36 mois\, en partenariat avec l’association MOME EN FAMILLE.\n\nA la découverte de la motricité libre\, venez en famille découvrir les capacités motrices de vos bébés\, dans un environnement adapté à leurs besoins\, selon les principes d’Emmi Pikler. Ce moment convivial vous permettra de rencontrer d’autres parents et des intervenants formés à la petite enfance. \nObjectifs des ateliers\nSavoir respecter et accompagner son bébé à son rythme. Apprendre à observer son bébé et découvrir comment l’accompagner dans son aventure motrice. \nInfos pratiques :  \n6-36 mois\n2€ par atelier et par famille\n2 jeudis par mois de 10h à 11h
URL:https://claje.asso.fr/event/parentalite-decouverte-motricite-libre-20/
LOCATION:CPA Annie Fratellini *\, 36 quai de la Rapée\, Paris\, 75012\, France
CATEGORIES:Atelier,CPA Annie Fralellini
ATTACH;FMTTYPE=image/jpeg:https://claje.asso.fr/wp-content/uploads/2023/09/motricite-libre-2.jpg
END:VEVENT
BEGIN:VEVENT
DTSTART;TZID=Europe/Paris:20240705T190000
DTEND;TZID=Europe/Paris:20240705T203000
DTSTAMP:20260419T162237
CREATED:20230905T102440Z
LAST-MODIFIED:20230920T115811Z
UID:10000090-1720206000-1720211400@claje.asso.fr
SUMMARY:[Atelier] Danse bien être
DESCRIPTION:Cet atelier alterne des exercices simples de relaxation et respiration à des mouvements dansés. \nLa danse bien-être favorise la détente\, la confiance et l’estime de soi\, le lâcher-prise\, la connexion à soi et aux autres : pas de recherche esthétique\, pas de jugement\, juste s’exprimer librement des ressentis et s’apporter du bon et du bien en laissant son corps s’exprimer ! \nTout public\n5€\nSur réservation\n1 vendredi par mois\nDe 19h00 à 20h30 \nS’inscrire en ligne \n 
URL:https://claje.asso.fr/event/atelier-danse-bien-etre/2024-07-05/
LOCATION:CPA Annie Fratellini *\, 36 quai de la Rapée\, Paris\, 75012\, France
CATEGORIES:Atelier,convivialité,CPA Annie Fralellini
ATTACH;FMTTYPE=image/png:https://claje.asso.fr/wp-content/uploads/2023/09/danse-bien-etre.png
END:VEVENT
BEGIN:VEVENT
DTSTART;TZID=Europe/Paris:20240706T100000
DTEND;TZID=Europe/Paris:20240706T130000
DTSTAMP:20260419T162237
CREATED:20230905T092313Z
LAST-MODIFIED:20231207T114049Z
UID:10000029-1720260000-1720270800@claje.asso.fr
SUMMARY:[Sorties] Balade conviviale
DESCRIPTION:Retrouvons-nous en compagnie pour une belle balade conviviale ! \nUne fois par mois\, le Centre Annie Fratellini vous offre une occasion de découvrir notre ville autrement et surtout de passer un bon moment ensemble. \nUn samedi par mois\nDe 10h à 13h\n3€\nSur inscription\nTout public
URL:https://claje.asso.fr/event/sorties-balade-conviviale-4/
LOCATION:CPA Annie Fratellini *\, 36 quai de la Rapée\, Paris\, 75012\, France
CATEGORIES:convivialité,CPA Annie Fralellini,Sortie
ATTACH;FMTTYPE=image/png:https://claje.asso.fr/wp-content/uploads/2023/09/balades.png
END:VEVENT
BEGIN:VEVENT
DTSTART;TZID=Europe/Paris:20240711T093000
DTEND;TZID=Europe/Paris:20240711T180000
DTSTAMP:20260419T162237
CREATED:20240624T130252Z
LAST-MODIFIED:20240624T130252Z
UID:10000335-1720690200-1720720800@claje.asso.fr
SUMMARY:[Sortie] Coulommiers
DESCRIPTION:Participez à la sortie à Coulommiers avec le CPA Annie Fratellini le jeudi 11 juillet 2024 ! Places limitées\, et inscription obligatoire ! \nExplorez la charmante ville de Coulommiers et découvrez ses secrets bien gardés. Les places sont limitées\, assurez-vous de réserver la vôtre dès maintenant. \nPour plus d’informations et pour vous inscrire\, contactez le CPA Annie Fratellini. \nInfos pratiques :  \n\n– de 18 ans : 8€\n+ de 18 ans : 15€\nTout public\nDépart depuis le CPA Annie Fratellini
URL:https://claje.asso.fr/event/sortie-coulommiers/
LOCATION:CPA Annie Fratellini *\, 36 quai de la Rapée\, Paris\, 75012\, France
CATEGORIES:CPA Annie Fralellini,Sortie
ATTACH;FMTTYPE=image/png:https://claje.asso.fr/wp-content/uploads/2024/06/coulommiers-1.png
END:VEVENT
END:VCALENDAR