BEGIN:VCALENDAR
VERSION:2.0
PRODID:-//Claje - ECPv6.15.20//NONSGML v1.0//EN
CALSCALE:GREGORIAN
METHOD:PUBLISH
X-ORIGINAL-URL:https://claje.asso.fr
X-WR-CALDESC:Évènements pour Claje
REFRESH-INTERVAL;VALUE=DURATION:PT1H
X-Robots-Tag:noindex
X-PUBLISHED-TTL:PT1H
BEGIN:VTIMEZONE
TZID:Europe/Paris
BEGIN:DAYLIGHT
TZOFFSETFROM:+0100
TZOFFSETTO:+0200
TZNAME:CEST
DTSTART:20230326T010000
END:DAYLIGHT
BEGIN:STANDARD
TZOFFSETFROM:+0200
TZOFFSETTO:+0100
TZNAME:CET
DTSTART:20231029T010000
END:STANDARD
BEGIN:DAYLIGHT
TZOFFSETFROM:+0100
TZOFFSETTO:+0200
TZNAME:CEST
DTSTART:20240331T010000
END:DAYLIGHT
BEGIN:STANDARD
TZOFFSETFROM:+0200
TZOFFSETTO:+0100
TZNAME:CET
DTSTART:20241027T010000
END:STANDARD
BEGIN:DAYLIGHT
TZOFFSETFROM:+0100
TZOFFSETTO:+0200
TZNAME:CEST
DTSTART:20250330T010000
END:DAYLIGHT
BEGIN:STANDARD
TZOFFSETFROM:+0200
TZOFFSETTO:+0100
TZNAME:CET
DTSTART:20251026T010000
END:STANDARD
END:VTIMEZONE
BEGIN:VEVENT
DTSTART;TZID=Europe/Paris:20240201T100000
DTEND;TZID=Europe/Paris:20240201T110000
DTSTAMP:20260420T050909
CREATED:20231122T142915Z
LAST-MODIFIED:20231122T142915Z
UID:10000139-1706781600-1706785200@claje.asso.fr
SUMMARY:[Parentalité] Exploration artistique
DESCRIPTION:Le CPA / Centre Social Annie Fratellini propose aux 6-36 mois un atelier d’exploration artistique sur le thème « corps et mouvements »\, en partenariat avec l’association Attrape Nuages. \nDès son plus jeune âge\, l’enfant attrape\, observe\, écoute\, joue\, échange : il est en perpétuelle découverte et s’éveille au monde qui l’entoure. \nCes ateliers permettent d’une part au parent et à l’enfant\, de s’approprier la lecture d’un livre et sa compréhension de 3 façons différentes et à travers le sensoriel. \nD’autre part\, de mettre en valeur les ressources contenus dans le livre : ses possibilités\, ses interprétations\, les réponses qu’il peut donner\, le lien qu’il peut créer. \nInfos pratiques :  \n6-36 mois
URL:https://claje.asso.fr/event/parentalite-exploration-artistique-3/
LOCATION:CPA Annie Fratellini *\, 36 quai de la Rapée\, Paris\, 75012\, France
CATEGORIES:Atelier,CPA Annie Fralellini,Parentalité
ATTACH;FMTTYPE=image/png:https://claje.asso.fr/wp-content/uploads/2023/11/exploration-artisitque-23-24.png
END:VEVENT
BEGIN:VEVENT
DTSTART;TZID=Europe/Paris:20240208T100000
DTEND;TZID=Europe/Paris:20240208T110000
DTSTAMP:20260420T050909
CREATED:20230914T082051Z
LAST-MODIFIED:20230914T082051Z
UID:10000070-1707386400-1707390000@claje.asso.fr
SUMMARY:[Parentalité] Découverte Motricité libre
DESCRIPTION:Le CPA/Centre Social Annie Fratellini propose des ateliers de Motricité libre à destination des 6-36 mois\, en partenariat avec l’association MOME EN FAMILLE.\n\nA la découverte de la motricité libre\, venez en famille découvrir les capacités motrices de vos bébés\, dans un environnement adapté à leurs besoins\, selon les principes d’Emmi Pikler. Ce moment convivial vous permettra de rencontrer d’autres parents et des intervenants formés à la petite enfance. \nObjectifs des ateliers\nSavoir respecter et accompagner son bébé à son rythme. Apprendre à observer son bébé et découvrir comment l’accompagner dans son aventure motrice. \nInfos pratiques :  \n6-36 mois\n2€ par atelier et par famille\n2 jeudis par mois de 10h à 11h
URL:https://claje.asso.fr/event/parentalite-decouverte-motricite-libre-10/
LOCATION:CPA Annie Fratellini *\, 36 quai de la Rapée\, Paris\, 75012\, France
CATEGORIES:Atelier,CPA Annie Fralellini
ATTACH;FMTTYPE=image/jpeg:https://claje.asso.fr/wp-content/uploads/2023/09/motricite-libre-2.jpg
END:VEVENT
BEGIN:VEVENT
DTSTART;TZID=Europe/Paris:20240209T190000
DTEND;TZID=Europe/Paris:20240209T210000
DTSTAMP:20260420T050909
CREATED:20240206T143736Z
LAST-MODIFIED:20240206T143736Z
UID:10000196-1707505200-1707512400@claje.asso.fr
SUMMARY:[Atelier événement] Danse des jeux
DESCRIPTION:Plongez dans l’univers envoûtant de la Danse des Jeux\, une chorégraphie sensationnelle créée par Mourad Merzouki et labellisée Olympiade Culturelle ! \nSur une musique originale signée Müller & Makaroff (Gotan Project)\, cette danse célèbre les Jeux olympiques et paralympiques de Paris 2024. \nAccessible à tous\, cette chorégraphie simple et entraînante vous invite à bouger et à vous préparer pour ce grand rendez-vous sportif ! \nInfos pratiques :  \nTout public
URL:https://claje.asso.fr/event/atelier-evenement-danse-des-jeux/
LOCATION:CPA Annie Fratellini *\, 36 quai de la Rapée\, Paris\, 75012\, France
CATEGORIES:Atelier,CPA Annie Fralellini
ATTACH;FMTTYPE=image/jpeg:https://claje.asso.fr/wp-content/uploads/2024/02/danse-des-jeux-1.jpg
END:VEVENT
BEGIN:VEVENT
DTSTART;TZID=Europe/Paris:20240210T100000
DTEND;TZID=Europe/Paris:20240210T130000
DTSTAMP:20260420T050909
CREATED:20230905T092605Z
LAST-MODIFIED:20230905T092605Z
UID:10000031-1707559200-1707570000@claje.asso.fr
SUMMARY:[Sorties] Balade conviviale
DESCRIPTION:Retrouvons-nous en compagnie pour une belle balade conviviale ! \nUne fois par mois\, le Centre Annie Fratellini vous offre une occasion de découvrir notre ville autrement et surtout de passer un bon moment ensemble. \nUn samedi par mois\nDe 10h à 13h\n3€\nSur inscription\nTout public
URL:https://claje.asso.fr/event/sorties-balade-conviviale-6/
LOCATION:CPA Annie Fratellini *\, 36 quai de la Rapée\, Paris\, 75012\, France
CATEGORIES:convivialité,CPA Annie Fralellini,Sortie
ATTACH;FMTTYPE=image/png:https://claje.asso.fr/wp-content/uploads/2023/09/balades.png
END:VEVENT
BEGIN:VEVENT
DTSTART;TZID=Europe/Paris:20240216T190000
DTEND;TZID=Europe/Paris:20240216T203000
DTSTAMP:20260420T050909
CREATED:20230905T102440Z
LAST-MODIFIED:20230920T115811Z
UID:10000085-1708110000-1708115400@claje.asso.fr
SUMMARY:[Atelier] Danse bien être
DESCRIPTION:Cet atelier alterne des exercices simples de relaxation et respiration à des mouvements dansés. \nLa danse bien-être favorise la détente\, la confiance et l’estime de soi\, le lâcher-prise\, la connexion à soi et aux autres : pas de recherche esthétique\, pas de jugement\, juste s’exprimer librement des ressentis et s’apporter du bon et du bien en laissant son corps s’exprimer ! \nTout public\n5€\nSur réservation\n1 vendredi par mois\nDe 19h00 à 20h30 \nS’inscrire en ligne \n 
URL:https://claje.asso.fr/event/atelier-danse-bien-etre/2024-02-16/
LOCATION:CPA Annie Fratellini *\, 36 quai de la Rapée\, Paris\, 75012\, France
CATEGORIES:Atelier,convivialité,CPA Annie Fralellini
ATTACH;FMTTYPE=image/png:https://claje.asso.fr/wp-content/uploads/2023/09/danse-bien-etre.png
END:VEVENT
BEGIN:VEVENT
DTSTART;TZID=Europe/Paris:20240221T140000
DTEND;TZID=Europe/Paris:20240221T180000
DTSTAMP:20260420T050909
CREATED:20240207T105421Z
LAST-MODIFIED:20240207T131658Z
UID:10000202-1708524000-1708538400@claje.asso.fr
SUMMARY:Olympiades des jeunes
DESCRIPTION:Rencontre entre tous les jeunes de toutes les structures du CLAJE  autours de défis Olympiques.  \nInfos pratiques \n\n\n\nMercredi 21 février 2024 De 14h00 à18h00 au gymnase Althéa Gibson \n\n\n\n RDV devant le CPA Musidora \n\n\n\n11 ans et + \n\n\n\nTarif : 2€ de participation aux frais Inscription dans tous les CPA gérés par le CLAJE ou en ligne directement. \n\nS’inscrire en ligne
URL:https://claje.asso.fr/event/olympiades-des-jeunes/
LOCATION:CPA Musidora\, 51 rue François Truffaut\, PARIS 12\, 75012\, France
CATEGORIES:Activites,CPA Annie Fralellini,CPA Bessie Smith,CPA Musidora,CPA Pina Bausch,Evènement,Jeunes,Stage
ATTACH;FMTTYPE=image/png:https://claje.asso.fr/wp-content/uploads/2024/02/olympiade.png
END:VEVENT
BEGIN:VEVENT
DTSTART;TZID=Europe/Paris:20240222T190000
DTEND;TZID=Europe/Paris:20240222T213000
DTSTAMP:20260420T050909
CREATED:20231123T143923Z
LAST-MODIFIED:20231123T143923Z
UID:10000148-1708628400-1708637400@claje.asso.fr
SUMMARY:[Convivialité] Festin festif
DESCRIPTION:Venez tous les mois participer à un festin festif au CPA Annie Fratellini. \nFestin festif est une invitation à célébrer les festivités du monde entier autour d’un repas partagé. \nPlongez dans une expérience festive et culinaire qui vous mènera à la découverte d’une tradition culturelle différente chaque mois. \nProgrammation :\n\n24 novembre : USA – Thanksgiving\n15 décembre : Egypte – Noel\n11 janvier : Maroc – La fête des amandiers\n22 février : Chine – Fête des lanternes\n29 mars : Inde – Holi\n25 avril : Catalogne – Sant Jordi\n2 mai : Roumanie – festival de Sambra Oilor\n27 juin : Pérou – Fête du soleil\n\nInfos pratiques :  \nInscription obligatoire
URL:https://claje.asso.fr/event/convivialite-festin-festif-3/
LOCATION:CPA Annie Fratellini *\, 36 quai de la Rapée\, Paris\, 75012\, France
CATEGORIES:convivialité,CPA Annie Fralellini
ATTACH;FMTTYPE=image/jpeg:https://claje.asso.fr/wp-content/uploads/2023/11/festin-festif.jpg
END:VEVENT
BEGIN:VEVENT
DTSTART;TZID=Europe/Paris:20240222T190000
DTEND;TZID=Europe/Paris:20240222T230000
DTSTAMP:20260420T050909
CREATED:20240206T092910Z
LAST-MODIFIED:20240206T092910Z
UID:10000192-1708628400-1708642800@claje.asso.fr
SUMMARY:[Festin festif] Fête des lanternes en Chine
DESCRIPTION:Venez nombreux le jeudi 22 février au CPA Annie Fratellini afin de partager un repas sur le thème « Fête des lanternes en Chine ». \nPlongez dans une expérience festive et culinaire qui vous mènera à la découverte d’une tradition culturelle différente chaque mois autour d’un repas partagé. \nApportez un plat typique de Chine et dégustons ensemble ! \nInfos pratiques :  \nInscription obligatoire
URL:https://claje.asso.fr/event/festin-festif-fete-des-lanternes-en-chine/
LOCATION:CPA Annie Fratellini *\, 36 quai de la Rapée\, Paris\, 75012\, France
CATEGORIES:convivialité,CPA Annie Fralellini
ATTACH;FMTTYPE=image/jpeg:https://claje.asso.fr/wp-content/uploads/2024/02/festin-festif-fevrier-24.jpg
END:VEVENT
BEGIN:VEVENT
DTSTART;TZID=Europe/Paris:20240229T100000
DTEND;TZID=Europe/Paris:20240229T110000
DTSTAMP:20260420T050909
CREATED:20230914T082342Z
LAST-MODIFIED:20230914T082342Z
UID:10000071-1709200800-1709204400@claje.asso.fr
SUMMARY:[Parentalité] Découverte Motricité libre
DESCRIPTION:Le CPA/Centre Social Annie Fratellini propose des ateliers de Motricité libre à destination des 6-36 mois\, en partenariat avec l’association MOME EN FAMILLE.\n\nA la découverte de la motricité libre\, venez en famille découvrir les capacités motrices de vos bébés\, dans un environnement adapté à leurs besoins\, selon les principes d’Emmi Pikler. Ce moment convivial vous permettra de rencontrer d’autres parents et des intervenants formés à la petite enfance. \nObjectifs des ateliers\nSavoir respecter et accompagner son bébé à son rythme. Apprendre à observer son bébé et découvrir comment l’accompagner dans son aventure motrice. \nInfos pratiques :  \n6-36 mois\n2€ par atelier et par famille\n2 jeudis par mois de 10h à 11h
URL:https://claje.asso.fr/event/parentalite-decouverte-motricite-libre-11/
LOCATION:CPA Annie Fratellini *\, 36 quai de la Rapée\, Paris\, 75012\, France
CATEGORIES:Atelier,CPA Annie Fralellini
ATTACH;FMTTYPE=image/jpeg:https://claje.asso.fr/wp-content/uploads/2023/09/motricite-libre-2.jpg
END:VEVENT
END:VCALENDAR