BEGIN:VCALENDAR
VERSION:2.0
PRODID:-//Claje - ECPv6.15.20//NONSGML v1.0//EN
CALSCALE:GREGORIAN
METHOD:PUBLISH
X-ORIGINAL-URL:https://claje.asso.fr
X-WR-CALDESC:Évènements pour Claje
REFRESH-INTERVAL;VALUE=DURATION:PT1H
X-Robots-Tag:noindex
X-PUBLISHED-TTL:PT1H
BEGIN:VTIMEZONE
TZID:Europe/Paris
BEGIN:DAYLIGHT
TZOFFSETFROM:+0100
TZOFFSETTO:+0200
TZNAME:CEST
DTSTART:20220327T010000
END:DAYLIGHT
BEGIN:STANDARD
TZOFFSETFROM:+0200
TZOFFSETTO:+0100
TZNAME:CET
DTSTART:20221030T010000
END:STANDARD
BEGIN:DAYLIGHT
TZOFFSETFROM:+0100
TZOFFSETTO:+0200
TZNAME:CEST
DTSTART:20230326T010000
END:DAYLIGHT
BEGIN:STANDARD
TZOFFSETFROM:+0200
TZOFFSETTO:+0100
TZNAME:CET
DTSTART:20231029T010000
END:STANDARD
BEGIN:DAYLIGHT
TZOFFSETFROM:+0100
TZOFFSETTO:+0200
TZNAME:CEST
DTSTART:20240331T010000
END:DAYLIGHT
BEGIN:STANDARD
TZOFFSETFROM:+0200
TZOFFSETTO:+0100
TZNAME:CET
DTSTART:20241027T010000
END:STANDARD
END:VTIMEZONE
BEGIN:VEVENT
DTSTART;TZID=Europe/Paris:20231201T190000
DTEND;TZID=Europe/Paris:20231201T203000
DTSTAMP:20260420T075709
CREATED:20230905T102440Z
LAST-MODIFIED:20230920T115811Z
UID:10000083-1701457200-1701462600@claje.asso.fr
SUMMARY:[Atelier] Danse bien être
DESCRIPTION:Cet atelier alterne des exercices simples de relaxation et respiration à des mouvements dansés. \nLa danse bien-être favorise la détente\, la confiance et l’estime de soi\, le lâcher-prise\, la connexion à soi et aux autres : pas de recherche esthétique\, pas de jugement\, juste s’exprimer librement des ressentis et s’apporter du bon et du bien en laissant son corps s’exprimer ! \nTout public\n5€\nSur réservation\n1 vendredi par mois\nDe 19h00 à 20h30 \nS’inscrire en ligne \n 
URL:https://claje.asso.fr/event/atelier-danse-bien-etre/2023-12-01/
LOCATION:CPA Annie Fratellini *\, 36 quai de la Rapée\, Paris\, 75012\, France
CATEGORIES:Atelier,convivialité,CPA Annie Fralellini
ATTACH;FMTTYPE=image/png:https://claje.asso.fr/wp-content/uploads/2023/09/danse-bien-etre.png
END:VEVENT
BEGIN:VEVENT
DTSTART;TZID=Europe/Paris:20231202T103000
DTEND;TZID=Europe/Paris:20231202T113000
DTSTAMP:20260420T075709
CREATED:20230905T130447Z
LAST-MODIFIED:20230905T130447Z
UID:10000049-1701513000-1701516600@claje.asso.fr
SUMMARY:[Atelier] Lectures pour les 3-6 ans
DESCRIPTION:Cet atelier lecture est dédiée aux enfants de 3 à 6 ans. \nChut… L’heure du conte a sonné ! Installe-toi confortablement\, l’histoire va bientôt commencer. Quelles nouvelles aventures allons-nous te raconter ? Une fois par mois\, accompagné de tes parents\, grands-parents ou de ta nounou\, découvre des histoires magiques\, marrantes\, surprenantes et parfois même effrayantes… \n3-6 ans\n1€ par séance après adhésion de 2€\n1 samedi par mois\nDe 10h30 à 11h30
URL:https://claje.asso.fr/event/atelier-lectures-pour-les-3-6-ans-3/
LOCATION:CPA Annie Fratellini *\, 36 quai de la Rapée\, Paris\, 75012\, France
CATEGORIES:Atelier,CPA Annie Fralellini
ATTACH;FMTTYPE=image/jpeg:https://claje.asso.fr/wp-content/uploads/2023/09/lectures.jpg
END:VEVENT
BEGIN:VEVENT
DTSTART;TZID=Europe/Paris:20231207T100000
DTEND;TZID=Europe/Paris:20231207T110000
DTSTAMP:20260420T075709
CREATED:20230914T081343Z
LAST-MODIFIED:20230914T081343Z
UID:10000066-1701943200-1701946800@claje.asso.fr
SUMMARY:[Parentalité] Découverte Motricité libre
DESCRIPTION:Le CPA/Centre Social Annie Fratellini propose des ateliers de Motricité libre à destination des 6-36 mois\, en partenariat avec l’association MOME EN FAMILLE.\n\nA la découverte de la motricité libre\, venez en famille découvrir les capacités motrices de vos bébés\, dans un environnement adapté à leurs besoins\, selon les principes d’Emmi Pikler. Ce moment convivial vous permettra de rencontrer d’autres parents et des intervenants formés à la petite enfance. \nObjectifs des ateliers\nSavoir respecter et accompagner son bébé à son rythme. Apprendre à observer son bébé et découvrir comment l’accompagner dans son aventure motrice. \nInfos pratiques :  \n6-36 mois\n2€ par atelier et par famille\n2 jeudis par mois de 10h à 11h
URL:https://claje.asso.fr/event/parentalite-decouverte-motricite-libre-6/
LOCATION:CPA Annie Fratellini *\, 36 quai de la Rapée\, Paris\, 75012\, France
CATEGORIES:Atelier,CPA Annie Fralellini
ATTACH;FMTTYPE=image/jpeg:https://claje.asso.fr/wp-content/uploads/2023/09/motricite-libre-2.jpg
END:VEVENT
BEGIN:VEVENT
DTSTART;TZID=Europe/Paris:20231214T100000
DTEND;TZID=Europe/Paris:20231214T110000
DTSTAMP:20260420T075709
CREATED:20231122T142349Z
LAST-MODIFIED:20231122T142443Z
UID:10000137-1702548000-1702551600@claje.asso.fr
SUMMARY:[Parentalité] Exploration artistique
DESCRIPTION:Le CPA / Centre Social Annie Fratellini propose aux 6-36 mois un atelier d’exploration artistique sur le thème « corps et mouvements »\, en partenariat avec l’association Attrape Nuages \nDès son plus jeune âge\, l’enfant attrape\, observe\, écoute\, joue\, échange : il est en perpétuelle découverte et s’éveille au monde qui l’entoure. \nCes ateliers permettent d’une part au parent et à l’enfant\, de s’approprier la lecture d’un livre et sa compréhension de 3 façons différentes et à travers le sensoriel. \nD’autre part\, de mettre en valeur les ressources contenus dans le livre : ses possibilités\, ses interprétations\, les réponses qu’il peut donner\, le lien qu’il peut créer. \nInfos pratiques :  \n6-36 mois
URL:https://claje.asso.fr/event/parentalite-exploration-artistique/
LOCATION:CPA Annie Fratellini *\, 36 quai de la Rapée\, Paris\, 75012\, France
CATEGORIES:Atelier,CPA Annie Fralellini,Parentalité
ATTACH;FMTTYPE=image/png:https://claje.asso.fr/wp-content/uploads/2023/11/exploration-artisitque-23-24.png
END:VEVENT
BEGIN:VEVENT
DTSTART;TZID=Europe/Paris:20231214T203000
DTEND;TZID=Europe/Paris:20231214T220000
DTSTAMP:20260420T075709
CREATED:20231201T153228Z
LAST-MODIFIED:20231201T153228Z
UID:10000157-1702585800-1702591200@claje.asso.fr
SUMMARY:[Stage] Danse orientale
DESCRIPTION:Venez découvrir les bases et les techniques de la danse égyptienne classique avec Natali Ya Chams \nLa danse orientale ne se limite pas seulement à des mouvements du bassin\, elle sollicite souplesse\, tonicité du buste\, des épaules\, des bras\, des mains\, du bassin et du ventre. Elle permet de tonifier les cuisses\, d’assouplir les articulations\, de développer les abdominaux et d’entretenir le dos. \nInscription sur place ou en ligne \nS’inscrire en ligne \n 
URL:https://claje.asso.fr/event/stage-danse-orientale/
CATEGORIES:CPA Annie Fralellini,Stage
ATTACH;FMTTYPE=image/png:https://claje.asso.fr/wp-content/uploads/2023/12/danse-orientale.png
END:VEVENT
BEGIN:VEVENT
DTSTART;TZID=Europe/Paris:20231215T190000
DTEND;TZID=Europe/Paris:20231215T210000
DTSTAMP:20260420T075709
CREATED:20231212T082430Z
LAST-MODIFIED:20231212T082430Z
UID:10000160-1702666800-1702674000@claje.asso.fr
SUMMARY:[Festin festif] Noël en Egypte
DESCRIPTION:Venez nombreux le vendredi 15 décembre au CPA Annie Fratellini afin de partager un repas sur le thème « Noël en Egypte ». \nPlongez dans une expérience festive et culinaire qui vous mènera à la découverte d’une tradition culturelle différente chaque mois autour d’un repas partagé. \nApportez un plat typique d’Egypte et dégustons ensemble ! \nInfos pratiques :  \nInscription obligatoire
URL:https://claje.asso.fr/event/festin-festif-noel-en-egypte/
LOCATION:CPA Annie Fratellini *\, 36 quai de la Rapée\, Paris\, 75012\, France
CATEGORIES:convivialité,CPA Annie Fralellini
ATTACH;FMTTYPE=image/jpeg:https://claje.asso.fr/wp-content/uploads/2023/12/festin-festif-decembre-2023.jpg
END:VEVENT
BEGIN:VEVENT
DTSTART;TZID=Europe/Paris:20231215T190000
DTEND;TZID=Europe/Paris:20231215T213000
DTSTAMP:20260420T075709
CREATED:20231122T150716Z
LAST-MODIFIED:20231204T150341Z
UID:10000144-1702666800-1702675800@claje.asso.fr
SUMMARY:[Soirée] JAM de noël
DESCRIPTION:Rencontre conviviale et musicale autour du jazz\, du blues et des musiques du monde\, en collaboration avec le CPA Annie Fratellini.  \n\n\n\nLe concept est simple : Apportez vos instruments et partitions ! Et quelque chose à boire et à manger pour partager un moment convivial. \n\n\n\nThématique : Noël ! Sortez vous plus beaux pulls en laine ! \n\nInfos pratiques :  Instruments disponibles sur place
URL:https://claje.asso.fr/event/soiree-jam-de-noel/
LOCATION:CPA Annie Fratellini *\, 36 quai de la Rapée\, Paris\, 75012\, France
CATEGORIES:CPA Annie Fralellini,Soirée
ATTACH;FMTTYPE=image/jpeg:https://claje.asso.fr/wp-content/uploads/2023/11/jam-de-noel.jpg
END:VEVENT
BEGIN:VEVENT
DTSTART;TZID=Europe/Paris:20231215T190000
DTEND;TZID=Europe/Paris:20231215T213000
DTSTAMP:20260420T075709
CREATED:20231123T143644Z
LAST-MODIFIED:20231123T143644Z
UID:10000146-1702666800-1702675800@claje.asso.fr
SUMMARY:[Convivialité] Festin festif
DESCRIPTION:Venez tous les mois participer à un festin festif au CPA Annie Fratellini. \nFestin festif est une invitation à célébrer les festivités du monde entier autour d’un repas partagé. \nPlongez dans une expérience festive et culinaire qui vous mènera à la découverte d’une tradition culturelle différente chaque mois. \nProgrammation :\n\n24 novembre : USA – Thanksgiving\n15 décembre : Egypte – Noel\n11 janvier : Maroc – La fête des amandiers\n22 février : Chine – Fête des lanternes\n29 mars : Inde – Holi\n25 avril : Catalogne – Sant Jordi\n2 mai : Roumanie – festival de Sambra Oilor\n27 juin : Pérou – Fête du soleil\n\nInfos pratiques :  \nInscription obligatoire
URL:https://claje.asso.fr/event/convivialite-festin-festif/
LOCATION:CPA Annie Fratellini *\, 36 quai de la Rapée\, Paris\, 75012\, France
CATEGORIES:convivialité,CPA Annie Fralellini
ATTACH;FMTTYPE=image/jpeg:https://claje.asso.fr/wp-content/uploads/2023/11/festin-festif.jpg
END:VEVENT
BEGIN:VEVENT
DTSTART;TZID=Europe/Paris:20231216T100000
DTEND;TZID=Europe/Paris:20231216T200000
DTSTAMP:20260420T075709
CREATED:20231201T132727Z
LAST-MODIFIED:20231201T133036Z
UID:10000156-1702720800-1702756800@claje.asso.fr
SUMMARY:[Sortie] Marché de Noël de Reims
DESCRIPTION:Laissez-vous porter par l’esprit de Noël et venez découvrir le 3e plus grand marché de Noël de France. \n150 chalets vous attendent pour vous proposer spécialités régionales\, artisanat\, idées cadeaux et gourmandises. \nVous pourrez également en profiter pour découvrir et admirer le centre ville et la Cathédrale. \nDÉPART À 10H AU CPA ANNIE FRATELLINI (RETOUR À 20H) \nInscription sur place ou en ligne \nS’inscrire en ligne
URL:https://claje.asso.fr/event/sortie-marche-de-noel-de-reims/
LOCATION:CPA Annie Fratellini *\, 36 quai de la Rapée\, Paris\, 75012\, France
CATEGORIES:CPA Annie Fralellini,Sortie
ATTACH;FMTTYPE=image/png:https://claje.asso.fr/wp-content/uploads/2023/12/marche-noel.png
END:VEVENT
BEGIN:VEVENT
DTSTART;TZID=Europe/Paris:20231220T153000
DTEND;TZID=Europe/Paris:20231220T180000
DTSTAMP:20260420T075709
CREATED:20231212T080205Z
LAST-MODIFIED:20231212T080205Z
UID:10000159-1703086200-1703095200@claje.asso.fr
SUMMARY:[Evènement] Loto de noël
DESCRIPTION:Venez participer au grand loto de noël le mercredi 20 décembre au CPA Annie fratellini. \nGrand goûter partagé et loto de Noël ! Apportez vos spécialités de Noël pour partager un goûter convivial… \nEt ensuite\, Loto solidaire et gratuit : 1 carton par personne ! Enfants\, adultes\, jeunes\, familles\, vous êtes toutes et tous les bienvenu.e.s… \nInfos pratiques :  \nInscription obligatoire (pas d’enfants seuls sans autorisation parentale écrite)
URL:https://claje.asso.fr/event/evenement-loto-de-noel/
LOCATION:CPA Annie Fratellini *\, 36 quai de la Rapée\, Paris\, 75012\, France
CATEGORIES:convivialité,CPA Annie Fralellini
ATTACH;FMTTYPE=image/jpeg:https://claje.asso.fr/wp-content/uploads/2023/12/loto-de-noel-1.jpg
END:VEVENT
BEGIN:VEVENT
DTSTART;TZID=Europe/Paris:20231221T100000
DTEND;TZID=Europe/Paris:20231221T110000
DTSTAMP:20260420T075709
CREATED:20230914T081702Z
LAST-MODIFIED:20230914T081702Z
UID:10000067-1703152800-1703156400@claje.asso.fr
SUMMARY:[Parentalité] Découverte Motricité libre
DESCRIPTION:Le CPA/Centre Social Annie Fratellini propose des ateliers de Motricité libre à destination des 6-36 mois\, en partenariat avec l’association MOME EN FAMILLE.\n\nA la découverte de la motricité libre\, venez en famille découvrir les capacités motrices de vos bébés\, dans un environnement adapté à leurs besoins\, selon les principes d’Emmi Pikler. Ce moment convivial vous permettra de rencontrer d’autres parents et des intervenants formés à la petite enfance. \nObjectifs des ateliers\nSavoir respecter et accompagner son bébé à son rythme. Apprendre à observer son bébé et découvrir comment l’accompagner dans son aventure motrice. \nInfos pratiques :  \n6-36 mois\n2€ par atelier et par famille\n2 jeudis par mois de 10h à 11h
URL:https://claje.asso.fr/event/parentalite-decouverte-motricite-libre-7/
LOCATION:CPA Annie Fratellini *\, 36 quai de la Rapée\, Paris\, 75012\, France
CATEGORIES:Atelier,CPA Annie Fralellini
ATTACH;FMTTYPE=image/jpeg:https://claje.asso.fr/wp-content/uploads/2023/09/motricite-libre-2.jpg
END:VEVENT
END:VCALENDAR