BEGIN:VCALENDAR
VERSION:2.0
PRODID:-//Claje - ECPv6.15.20//NONSGML v1.0//EN
CALSCALE:GREGORIAN
METHOD:PUBLISH
X-WR-CALNAME:Claje
X-ORIGINAL-URL:https://claje.asso.fr
X-WR-CALDESC:Évènements pour Claje
REFRESH-INTERVAL;VALUE=DURATION:PT1H
X-Robots-Tag:noindex
X-PUBLISHED-TTL:PT1H
BEGIN:VTIMEZONE
TZID:Europe/Paris
BEGIN:DAYLIGHT
TZOFFSETFROM:+0100
TZOFFSETTO:+0200
TZNAME:CEST
DTSTART:20220327T010000
END:DAYLIGHT
BEGIN:STANDARD
TZOFFSETFROM:+0200
TZOFFSETTO:+0100
TZNAME:CET
DTSTART:20221030T010000
END:STANDARD
BEGIN:DAYLIGHT
TZOFFSETFROM:+0100
TZOFFSETTO:+0200
TZNAME:CEST
DTSTART:20230326T010000
END:DAYLIGHT
BEGIN:STANDARD
TZOFFSETFROM:+0200
TZOFFSETTO:+0100
TZNAME:CET
DTSTART:20231029T010000
END:STANDARD
BEGIN:DAYLIGHT
TZOFFSETFROM:+0100
TZOFFSETTO:+0200
TZNAME:CEST
DTSTART:20240331T010000
END:DAYLIGHT
BEGIN:STANDARD
TZOFFSETFROM:+0200
TZOFFSETTO:+0100
TZNAME:CET
DTSTART:20241027T010000
END:STANDARD
BEGIN:DAYLIGHT
TZOFFSETFROM:+0100
TZOFFSETTO:+0200
TZNAME:CEST
DTSTART:20250330T010000
END:DAYLIGHT
BEGIN:STANDARD
TZOFFSETFROM:+0200
TZOFFSETTO:+0100
TZNAME:CET
DTSTART:20251026T010000
END:STANDARD
END:VTIMEZONE
BEGIN:VEVENT
DTSTART;TZID=Europe/Paris:20240203T150000
DTEND;TZID=Europe/Paris:20240203T170000
DTSTAMP:20260424T183324
CREATED:20240110T104338Z
LAST-MODIFIED:20240126T085828Z
UID:10000175-1706972400-1706979600@claje.asso.fr
SUMMARY:[Rencontre] Les dangers des réseaux sociaux
DESCRIPTION:Vous êtes parent et inquiet des effets que peuvent avoir les réseaux sociaux sur votre enfant ? Venez échanger au à l’antenne Maya Angelou\, le samedi 3 février. \n\n\n\nL’antenne Maya Angelou organise une rencontre/discussion autour d’un goûter sur comment accompagner son enfant face aux dangers des réseaux sociaux.  
URL:https://claje.asso.fr/event/rencontre-les-dangers-des-reseaux-sociaux/
LOCATION:Antenne Maya Angelou\, 10 rue Erard\, Paris 12\, France\, 75012\, France
CATEGORIES:Antenne Maya Angelou,convivialité,Jeunes,Parentalité
ATTACH;FMTTYPE=image/png:https://claje.asso.fr/wp-content/uploads/2024/01/rencontre-RS.png
END:VEVENT
BEGIN:VEVENT
DTSTART;TZID=Europe/Paris:20240126T190000
DTEND;TZID=Europe/Paris:20240126T203000
DTSTAMP:20260424T183324
CREATED:20230905T102440Z
LAST-MODIFIED:20230920T115811Z
UID:10000084-1706295600-1706301000@claje.asso.fr
SUMMARY:[Atelier] Danse bien être
DESCRIPTION:Cet atelier alterne des exercices simples de relaxation et respiration à des mouvements dansés. \nLa danse bien-être favorise la détente\, la confiance et l’estime de soi\, le lâcher-prise\, la connexion à soi et aux autres : pas de recherche esthétique\, pas de jugement\, juste s’exprimer librement des ressentis et s’apporter du bon et du bien en laissant son corps s’exprimer ! \nTout public\n5€\nSur réservation\n1 vendredi par mois\nDe 19h00 à 20h30 \nS’inscrire en ligne \n 
URL:https://claje.asso.fr/event/atelier-danse-bien-etre/2024-01-26/
LOCATION:CPA Annie Fratellini *\, 36 quai de la Rapée\, Paris\, 75012\, France
CATEGORIES:Atelier,convivialité,CPA Annie Fralellini
ATTACH;FMTTYPE=image/png:https://claje.asso.fr/wp-content/uploads/2023/09/danse-bien-etre.png
END:VEVENT
BEGIN:VEVENT
DTSTART;TZID=Europe/Paris:20240124T190000
DTEND;TZID=Europe/Paris:20240124T210000
DTSTAMP:20260424T183324
CREATED:20240117T131929Z
LAST-MODIFIED:20240117T131929Z
UID:10000181-1706122800-1706130000@claje.asso.fr
SUMMARY:[Ciné] Courts métrages avec Ciné Fac
DESCRIPTION:Le CPA Bessie Smith propose une soirée projection avec Ciné Fac\, le mercredi 24 janvier 2024\n\n \n\nA l’heure où le numérique permet à chacun de faire son cinema\, CINE FAC et le CPA Bessie Smith vous invitent à partager une séance de projection de courts métrages à la découverte des talents émergents\, des pratiques et des formes nouvelles de création cinématographiques. Un cinéma curieux\, insolite et ouvert à toutes et tous.\n\n\n\nMercredi 24 janvier // 19h00\nTout public
URL:https://claje.asso.fr/event/cine-courts-metrages-avec-cine-fac/
LOCATION:CPA Bessie Smith\, 19 rue Antoine Julien Hénard\, Paris 12\, 75012\, France
CATEGORIES:convivialité,CPA Bessie Smith,Projection
END:VEVENT
BEGIN:VEVENT
DTSTART;TZID=Europe/Paris:20240120T100000
DTEND;TZID=Europe/Paris:20240120T130000
DTSTAMP:20260424T183324
CREATED:20230905T092445Z
LAST-MODIFIED:20230905T092445Z
UID:10000030-1705744800-1705755600@claje.asso.fr
SUMMARY:[Sorties] Balade conviviale
DESCRIPTION:Retrouvons-nous en compagnie pour une belle balade conviviale ! \nUne fois par mois\, le Centre Annie Fratellini vous offre une occasion de découvrir notre ville autrement et surtout de passer un bon moment ensemble. \nUn samedi par mois\nDe 10h à 13h\n3€\nSur inscription\nTout public
URL:https://claje.asso.fr/event/sorties-balade-conviviale-5/
LOCATION:CPA Annie Fratellini *\, 36 quai de la Rapée\, Paris\, 75012\, France
CATEGORIES:convivialité,CPA Annie Fralellini,Sortie
ATTACH;FMTTYPE=image/png:https://claje.asso.fr/wp-content/uploads/2023/09/balades.png
END:VEVENT
BEGIN:VEVENT
DTSTART;TZID=Europe/Paris:20240119T190000
DTEND;TZID=Europe/Paris:20240119T190000
DTSTAMP:20260424T183324
CREATED:20240107T182418Z
LAST-MODIFIED:20240107T182418Z
UID:10000170-1705690800-1705690800@claje.asso.fr
SUMMARY:[Évènement] Blind test avec Dj oui oui et Dj Minie PLK
DESCRIPTION:Venez participer à une soirée blind test avec Dj oui oui et Dj Minie PLK le vendredi 19 janvier 2024 au CPA Annie Fratellini. \nLe blind test musical\, est un jeu très populaire qui consiste à retrouver l’interprète et/ou le titre de la chanson qui est diffusée\, et ce avant ses concurrents. \nInfos pratiques :  \nTout public
URL:https://claje.asso.fr/event/evenement-blind-test-avec-dj-oui-oui-et-dj-minie-plk/
LOCATION:CPA Annie Fratellini *\, 36 quai de la Rapée\, Paris\, 75012\, France
CATEGORIES:convivialité,CPA Annie Fralellini
ATTACH;FMTTYPE=image/jpeg:https://claje.asso.fr/wp-content/uploads/2024/01/blind-test-janvier-24-1.jpg
END:VEVENT
BEGIN:VEVENT
DTSTART;TZID=Europe/Paris:20240118T190000
DTEND;TZID=Europe/Paris:20240118T190000
DTSTAMP:20260424T183324
CREATED:20240110T113259Z
LAST-MODIFIED:20240110T113259Z
UID:10000177-1705604400-1705604400@claje.asso.fr
SUMMARY:Nuits de la lecture au CPA Annie Fratellini
DESCRIPTION:Dans le cadre des Nuits de la lecture \, le CPA Annie Fratellini propose une soirée de lectures\, performances artistiques et corporelles\, découvertes poétiques et sonores… le jeudi 18 janvier 2024.\n\n \n\nLes 8e Nuits de la lecture\, organisées pour la troisième année consécutive par le Centre national du livre sur proposition du ministère de la Culture\, se tiendront du 18 au 21 janvier 2024 au cours de quatre soirées.\n\n \n\nLa thématique proposée par le Centre national du livre est celle du corps\, une manière de faire écho\, bien sûr\, aux Jeux Olympiques qui auront lieu à l’été.\nInfos Pratiques\nJeudi 18 janvier à 19h00\nGratuit /adultes\nCPA/CS Annie Fratellini (Villiot)\n36 quai de la Rapée\, Paris 12\n01.43.40.52.14\nvilliot@claje.asso.fr
URL:https://claje.asso.fr/event/nuits-de-la-lecture-au-cpa-annie-fratellini/
LOCATION:CPA Annie Fratellini *\, 36 quai de la Rapée\, Paris\, 75012\, France
CATEGORIES:convivialité,CPA Annie Fralellini,Evènement,Spectacle
ATTACH;FMTTYPE=image/png:https://claje.asso.fr/wp-content/uploads/2024/01/nuits-lecture.png
END:VEVENT
BEGIN:VEVENT
DTSTART;TZID=Europe/Paris:20240111T190000
DTEND;TZID=Europe/Paris:20240111T213000
DTSTAMP:20260424T183324
CREATED:20231123T143810Z
LAST-MODIFIED:20231123T143810Z
UID:10000147-1704999600-1705008600@claje.asso.fr
SUMMARY:[Convivialité] Festin festif
DESCRIPTION:Venez tous les mois participer à un festin festif au CPA Annie Fratellini. \nFestin festif est une invitation à célébrer les festivités du monde entier autour d’un repas partagé. \nPlongez dans une expérience festive et culinaire qui vous mènera à la découverte d’une tradition culturelle différente chaque mois. \nProgrammation :\n\n24 novembre : USA – Thanksgiving\n15 décembre : Egypte – Noel\n11 janvier : Maroc – La fête des amandiers\n22 février : Chine – Fête des lanternes\n29 mars : Inde – Holi\n25 avril : Catalogne – Sant Jordi\n2 mai : Roumanie – festival de Sambra Oilor\n27 juin : Pérou – Fête du soleil\n\nInfos pratiques :  \nInscription obligatoire
URL:https://claje.asso.fr/event/convivialite-festin-festif-2/
LOCATION:CPA Annie Fratellini *\, 36 quai de la Rapée\, Paris\, 75012\, France
CATEGORIES:convivialité,CPA Annie Fralellini
ATTACH;FMTTYPE=image/jpeg:https://claje.asso.fr/wp-content/uploads/2023/11/festin-festif.jpg
END:VEVENT
BEGIN:VEVENT
DTSTART;TZID=Europe/Paris:20231220T164500
DTEND;TZID=Europe/Paris:20231220T180000
DTSTAMP:20260424T183324
CREATED:20231212T144244Z
LAST-MODIFIED:20231212T144244Z
UID:10000163-1703090700-1703095200@claje.asso.fr
SUMMARY:[Animation] Balle au prisonnier
DESCRIPTION:Venez jouer ensemble à la balle au prisonnier les 6\, 13 et 20 décembre au CPA Musidora. \nInfos pratiques :  \n7-12 ans
URL:https://claje.asso.fr/event/animation-balle-au-prisonnier-2/
LOCATION:CPA Musidora\, 51 rue François Truffaut\, PARIS 12\, 75012\, France
CATEGORIES:convivialité,CPA Musidora
ATTACH;FMTTYPE=image/jpeg:https://claje.asso.fr/wp-content/uploads/2023/12/balle-au-prisonnier-1.jpg
END:VEVENT
BEGIN:VEVENT
DTSTART;TZID=Europe/Paris:20231220T153000
DTEND;TZID=Europe/Paris:20231220T180000
DTSTAMP:20260424T183324
CREATED:20231212T080205Z
LAST-MODIFIED:20231212T080205Z
UID:10000159-1703086200-1703095200@claje.asso.fr
SUMMARY:[Evènement] Loto de noël
DESCRIPTION:Venez participer au grand loto de noël le mercredi 20 décembre au CPA Annie fratellini. \nGrand goûter partagé et loto de Noël ! Apportez vos spécialités de Noël pour partager un goûter convivial… \nEt ensuite\, Loto solidaire et gratuit : 1 carton par personne ! Enfants\, adultes\, jeunes\, familles\, vous êtes toutes et tous les bienvenu.e.s… \nInfos pratiques :  \nInscription obligatoire (pas d’enfants seuls sans autorisation parentale écrite)
URL:https://claje.asso.fr/event/evenement-loto-de-noel/
LOCATION:CPA Annie Fratellini *\, 36 quai de la Rapée\, Paris\, 75012\, France
CATEGORIES:convivialité,CPA Annie Fralellini
ATTACH;FMTTYPE=image/jpeg:https://claje.asso.fr/wp-content/uploads/2023/12/loto-de-noel-1.jpg
END:VEVENT
BEGIN:VEVENT
DTSTART;TZID=Europe/Paris:20231215T190000
DTEND;TZID=Europe/Paris:20231215T213000
DTSTAMP:20260424T183324
CREATED:20231123T143644Z
LAST-MODIFIED:20231123T143644Z
UID:10000146-1702666800-1702675800@claje.asso.fr
SUMMARY:[Convivialité] Festin festif
DESCRIPTION:Venez tous les mois participer à un festin festif au CPA Annie Fratellini. \nFestin festif est une invitation à célébrer les festivités du monde entier autour d’un repas partagé. \nPlongez dans une expérience festive et culinaire qui vous mènera à la découverte d’une tradition culturelle différente chaque mois. \nProgrammation :\n\n24 novembre : USA – Thanksgiving\n15 décembre : Egypte – Noel\n11 janvier : Maroc – La fête des amandiers\n22 février : Chine – Fête des lanternes\n29 mars : Inde – Holi\n25 avril : Catalogne – Sant Jordi\n2 mai : Roumanie – festival de Sambra Oilor\n27 juin : Pérou – Fête du soleil\n\nInfos pratiques :  \nInscription obligatoire
URL:https://claje.asso.fr/event/convivialite-festin-festif/
LOCATION:CPA Annie Fratellini *\, 36 quai de la Rapée\, Paris\, 75012\, France
CATEGORIES:convivialité,CPA Annie Fralellini
ATTACH;FMTTYPE=image/jpeg:https://claje.asso.fr/wp-content/uploads/2023/11/festin-festif.jpg
END:VEVENT
BEGIN:VEVENT
DTSTART;TZID=Europe/Paris:20231215T190000
DTEND;TZID=Europe/Paris:20231215T210000
DTSTAMP:20260424T183324
CREATED:20231212T082430Z
LAST-MODIFIED:20231212T082430Z
UID:10000160-1702666800-1702674000@claje.asso.fr
SUMMARY:[Festin festif] Noël en Egypte
DESCRIPTION:Venez nombreux le vendredi 15 décembre au CPA Annie Fratellini afin de partager un repas sur le thème « Noël en Egypte ». \nPlongez dans une expérience festive et culinaire qui vous mènera à la découverte d’une tradition culturelle différente chaque mois autour d’un repas partagé. \nApportez un plat typique d’Egypte et dégustons ensemble ! \nInfos pratiques :  \nInscription obligatoire
URL:https://claje.asso.fr/event/festin-festif-noel-en-egypte/
LOCATION:CPA Annie Fratellini *\, 36 quai de la Rapée\, Paris\, 75012\, France
CATEGORIES:convivialité,CPA Annie Fralellini
ATTACH;FMTTYPE=image/jpeg:https://claje.asso.fr/wp-content/uploads/2023/12/festin-festif-decembre-2023.jpg
END:VEVENT
BEGIN:VEVENT
DTSTART;TZID=Europe/Paris:20231213T164500
DTEND;TZID=Europe/Paris:20231213T180000
DTSTAMP:20260424T183324
CREATED:20231212T144054Z
LAST-MODIFIED:20231212T144059Z
UID:10000162-1702485900-1702490400@claje.asso.fr
SUMMARY:[Animation] Balle au prisonnier
DESCRIPTION:Venez jouer ensemble à la balle au prisonnier les 6\, 13 et 20 décembre au CPA Musidora. \n\nInfos pratiques :  \n\n7-12 ans
URL:https://claje.asso.fr/event/animation-balle-au-prisonnier/
LOCATION:CPA Musidora\, 51 rue François Truffaut\, PARIS 12\, 75012\, France
CATEGORIES:convivialité,CPA Musidora
ATTACH;FMTTYPE=image/jpeg:https://claje.asso.fr/wp-content/uploads/2023/12/balle-au-prisonnier-1.jpg
END:VEVENT
BEGIN:VEVENT
DTSTART;TZID=Europe/Paris:20231201T190000
DTEND;TZID=Europe/Paris:20231201T203000
DTSTAMP:20260424T183324
CREATED:20230905T102440Z
LAST-MODIFIED:20230920T115811Z
UID:10000083-1701457200-1701462600@claje.asso.fr
SUMMARY:[Atelier] Danse bien être
DESCRIPTION:Cet atelier alterne des exercices simples de relaxation et respiration à des mouvements dansés. \nLa danse bien-être favorise la détente\, la confiance et l’estime de soi\, le lâcher-prise\, la connexion à soi et aux autres : pas de recherche esthétique\, pas de jugement\, juste s’exprimer librement des ressentis et s’apporter du bon et du bien en laissant son corps s’exprimer ! \nTout public\n5€\nSur réservation\n1 vendredi par mois\nDe 19h00 à 20h30 \nS’inscrire en ligne \n 
URL:https://claje.asso.fr/event/atelier-danse-bien-etre/2023-12-01/
LOCATION:CPA Annie Fratellini *\, 36 quai de la Rapée\, Paris\, 75012\, France
CATEGORIES:Atelier,convivialité,CPA Annie Fralellini
ATTACH;FMTTYPE=image/png:https://claje.asso.fr/wp-content/uploads/2023/09/danse-bien-etre.png
END:VEVENT
BEGIN:VEVENT
DTSTART;TZID=Europe/Paris:20231128T190000
DTEND;TZID=Europe/Paris:20231128T230000
DTSTAMP:20260424T183324
CREATED:20231106T101909Z
LAST-MODIFIED:20231115T105425Z
UID:10000128-1701198000-1701212400@claje.asso.fr
SUMMARY:[Danse] Bal Lindy Hop à Paillettes
DESCRIPTION:Dans le cadre du Festival des fiertés\, le CPA Bessie Smith propose une initiation à la danse Lindy. Venez comme vous êtes découvrir les bases de cette danse et vous amuser dans une ambiance conviviale et chaleureuse. \nMardi 28 novembre\n19h00\nGratuit / Tout public \nS’inscrire en ligne \n 
URL:https://claje.asso.fr/event/bal-lindy-hop-a-paillettes/
LOCATION:CPA Bessie Smith\, 19 rue Antoine Julien Hénard\, Paris 12\, 75012\, France
CATEGORIES:convivialité,CPA Bessie Smith
ATTACH;FMTTYPE=image/png:https://claje.asso.fr/wp-content/uploads/2023/11/bal-lindy.png
END:VEVENT
BEGIN:VEVENT
DTSTART;TZID=Europe/Paris:20231124T190000
DTEND;TZID=Europe/Paris:20231124T213000
DTSTAMP:20260424T183324
CREATED:20231123T142908Z
LAST-MODIFIED:20231123T142908Z
UID:10000145-1700852400-1700861400@claje.asso.fr
SUMMARY:[Convivialité] Repas partagé pour Thanksgiving
DESCRIPTION:Venez nombreux le vendredi 24 novembre au CPA Annie Fratellini afin de partager un repas pour Thanksgiving. \nDécouverte de la fête de Thanksgiving\, partage des reconnaissances\, dégustation des spécialités culinaires. \nApportez un plat typique de Thanksgiving et dégustons ensemble ! \nInfos pratiques :  \nInscription obligatoire
URL:https://claje.asso.fr/event/convivialite-repas-partage-pour-thanksgiving/
LOCATION:CPA Annie Fratellini *\, 36 quai de la Rapée\, Paris\, 75012\, France
CATEGORIES:convivialité,CPA Annie Fralellini
ATTACH;FMTTYPE=image/jpeg:https://claje.asso.fr/wp-content/uploads/2023/11/repas-partage-1.jpg
END:VEVENT
BEGIN:VEVENT
DTSTART;TZID=Europe/Paris:20231117T190000
DTEND;TZID=Europe/Paris:20231117T203000
DTSTAMP:20260424T183324
CREATED:20230905T102440Z
LAST-MODIFIED:20230920T115811Z
UID:10000082-1700247600-1700253000@claje.asso.fr
SUMMARY:[Atelier] Danse bien être
DESCRIPTION:Cet atelier alterne des exercices simples de relaxation et respiration à des mouvements dansés. \nLa danse bien-être favorise la détente\, la confiance et l’estime de soi\, le lâcher-prise\, la connexion à soi et aux autres : pas de recherche esthétique\, pas de jugement\, juste s’exprimer librement des ressentis et s’apporter du bon et du bien en laissant son corps s’exprimer ! \nTout public\n5€\nSur réservation\n1 vendredi par mois\nDe 19h00 à 20h30 \nS’inscrire en ligne \n 
URL:https://claje.asso.fr/event/atelier-danse-bien-etre/2023-11-17/
LOCATION:CPA Annie Fratellini *\, 36 quai de la Rapée\, Paris\, 75012\, France
CATEGORIES:Atelier,convivialité,CPA Annie Fralellini
ATTACH;FMTTYPE=image/png:https://claje.asso.fr/wp-content/uploads/2023/09/danse-bien-etre.png
END:VEVENT
BEGIN:VEVENT
DTSTART;TZID=Europe/Paris:20231115T193000
DTEND;TZID=Europe/Paris:20231115T223000
DTSTAMP:20260424T183324
CREATED:20231108T131239Z
LAST-MODIFIED:20231108T131303Z
UID:10000134-1700076600-1700087400@claje.asso.fr
SUMMARY:[Soirée] JAM Musique
DESCRIPTION:Le CPA Bessie Smith vous accueille le mercredi 15 novembre pour une rencontre conviviale et musicale autour du jazz\, du blues et des musiques du monde. \nInstruments disponibles sur place \nGratuit\nTout Public
URL:https://claje.asso.fr/event/soiree-jam-musique-3/
LOCATION:CPA Bessie Smith\, 19 rue Antoine Julien Hénard\, Paris 12\, 75012\, France
CATEGORIES:convivialité
ATTACH;FMTTYPE=image/png:https://claje.asso.fr/wp-content/uploads/2023/10/jam-v2.png
END:VEVENT
BEGIN:VEVENT
DTSTART;TZID=Europe/Paris:20231021T140000
DTEND;TZID=Europe/Paris:20231021T180000
DTSTAMP:20260424T183324
CREATED:20231005T084137Z
LAST-MODIFIED:20231005T084137Z
UID:10000104-1697896800-1697911200@claje.asso.fr
SUMMARY:[Evènement] Une journée écolo
DESCRIPTION:Venez participer à une journée conviviale autour de l’écologie à la Résidence Villiot-Râpée le samedi 21 octobre ! \nAu programme de la journée :\nDe 14h00 à 16h00 : Opération « CLEANING DAY » : Action collective de nettoyage dans la résidence et le jardin organisée par le Groupement des locataires GLVR CLCV \nA 16h00 : goûter participatif avec les familles \nDe 16h00 à 18h00 : Ateliers en plein air : \n– Exposition fresques-portraits d’habitants et atelier Recycl’Art avec Double Face \n– Atelier réparation de vélos avec la Cycklette
URL:https://claje.asso.fr/event/evenement-une-journee-ecolo/
LOCATION:CPA Annie Fratellini *\, 36 quai de la Rapée\, Paris\, 75012\, France
CATEGORIES:convivialité,CPA Annie Fralellini
ATTACH;FMTTYPE=image/png:https://claje.asso.fr/wp-content/uploads/2023/10/journee-ecolo.png
END:VEVENT
BEGIN:VEVENT
DTSTART;TZID=Europe/Paris:20231021T100000
DTEND;TZID=Europe/Paris:20231021T130000
DTSTAMP:20260424T183324
CREATED:20230905T092031Z
LAST-MODIFIED:20230905T092031Z
UID:10000027-1697882400-1697893200@claje.asso.fr
SUMMARY:[Sorties] Balade conviviale
DESCRIPTION:Retrouvons-nous en compagnie pour une belle balade conviviale ! \nUne fois par mois\, le Centre Annie Fratellini vous offre une occasion de découvrir notre ville autrement et surtout de passer un bon moment ensemble. \nUn samedi par mois\nDe 10h à 13h\n3€\nSur inscription\nTout public
URL:https://claje.asso.fr/event/sorties-balade-conviviale-2/
LOCATION:CPA Annie Fratellini *\, 36 quai de la Rapée\, Paris\, 75012\, France
CATEGORIES:convivialité,CPA Annie Fralellini,Sortie
ATTACH;FMTTYPE=image/png:https://claje.asso.fr/wp-content/uploads/2023/09/balades.png
END:VEVENT
BEGIN:VEVENT
DTSTART;TZID=Europe/Paris:20231020T190000
DTEND;TZID=Europe/Paris:20231020T203000
DTSTAMP:20260424T183324
CREATED:20230905T102440Z
LAST-MODIFIED:20230920T115811Z
UID:10000091-1697828400-1697833800@claje.asso.fr
SUMMARY:[Atelier] Danse bien être
DESCRIPTION:Cet atelier alterne des exercices simples de relaxation et respiration à des mouvements dansés. \nLa danse bien-être favorise la détente\, la confiance et l’estime de soi\, le lâcher-prise\, la connexion à soi et aux autres : pas de recherche esthétique\, pas de jugement\, juste s’exprimer librement des ressentis et s’apporter du bon et du bien en laissant son corps s’exprimer ! \nTout public\n5€\nSur réservation\n1 vendredi par mois\nDe 19h00 à 20h30 \nS’inscrire en ligne \n 
URL:https://claje.asso.fr/event/atelier-danse-bien-etre/2023-10-20/
LOCATION:CPA Annie Fratellini *\, 36 quai de la Rapée\, Paris\, 75012\, France
CATEGORIES:Atelier,convivialité,CPA Annie Fralellini
ATTACH;FMTTYPE=image/png:https://claje.asso.fr/wp-content/uploads/2023/09/danse-bien-etre.png
END:VEVENT
BEGIN:VEVENT
DTSTART;TZID=Europe/Paris:20231019T143000
DTEND;TZID=Europe/Paris:20231019T163000
DTSTAMP:20260424T183324
CREATED:20231013T051749Z
LAST-MODIFIED:20231013T051749Z
UID:10000115-1697725800-1697733000@claje.asso.fr
SUMMARY:[Atelier d’échanges] Tea time
DESCRIPTION:Dans le cadre de la semaine bleue nous vous proposons le jeudi 19 octobre au CPA Musidora un temps d’échange pour les Séniors et les autres autour de : vieillir ensemble une chance cultiver. \nN’hésitez pas à nous faire découvrir votre thé préféré.
URL:https://claje.asso.fr/event/atelier-dechanges-tea-time-2/
LOCATION:CPA Musidora\, 51 rue François Truffaut\, PARIS 12\, 75012\, France
CATEGORIES:Atelier,convivialité
ATTACH;FMTTYPE=image/png:https://claje.asso.fr/wp-content/uploads/2023/10/tea-time-v2.png
END:VEVENT
BEGIN:VEVENT
DTSTART;TZID=Europe/Paris:20231018T193000
DTEND;TZID=Europe/Paris:20231018T193000
DTSTAMP:20260424T183324
CREATED:20231005T164444Z
LAST-MODIFIED:20231005T164444Z
UID:10000105-1697657400-1697657400@claje.asso.fr
SUMMARY:[Soirée] JAM Musique
DESCRIPTION:Le CPA Bessie Smith vous accueille le mercredi 18 octobre pour une rencontre conviviale et musicale autour du jazz\, du blues et des musiques du monde. \nInfos pratiques : \nGratuit\nTout Public
URL:https://claje.asso.fr/event/soiree-jam-musique-2/
LOCATION:CPA Bessie Smith\, 19 rue Antoine Julien Hénard\, Paris 12\, 75012\, France
CATEGORIES:convivialité
ATTACH;FMTTYPE=image/png:https://claje.asso.fr/wp-content/uploads/2023/10/jam-v2.png
END:VEVENT
BEGIN:VEVENT
DTSTART;TZID=Europe/Paris:20231014T110000
DTEND;TZID=Europe/Paris:20231014T120000
DTSTAMP:20260424T183324
CREATED:20231011T135356Z
LAST-MODIFIED:20231011T135437Z
UID:10000107-1697281200-1697284800@claje.asso.fr
SUMMARY:Démonstration et initiation d'Acroyoga
DESCRIPTION:Le CPA Bessie Smith vous propose une démonstration et une initiation d’Acroyoga le samedi 14 octobre 2023. \nL’Acroyoga est une discipline de portée acrobatique où deux personnes ou plus interagissent dans des postures et mouvements. \nLe porteur (la base) propose des appuis solides\, stables et rassurants au flyer (voltigeur.euse) pour qu’il puisse exprimer sa grâce\, sa souplesse et son équilibre.
URL:https://claje.asso.fr/event/demonstration-et-initiation-a-lacroyoga/
LOCATION:CPA Bessie Smith\, 19 rue Antoine Julien Hénard\, Paris 12\, 75012\, France
CATEGORIES:convivialité,CPA Bessie Smith
ATTACH;FMTTYPE=image/png:https://claje.asso.fr/wp-content/uploads/2023/10/acroyoga-v2.png
END:VEVENT
BEGIN:VEVENT
DTSTART;TZID=Europe/Paris:20231005T143000
DTEND;TZID=Europe/Paris:20231005T163000
DTSTAMP:20260424T183324
CREATED:20231005T072101Z
LAST-MODIFIED:20231005T072101Z
UID:10000103-1696516200-1696523400@claje.asso.fr
SUMMARY:[Atelier d'échanges] Tea time
DESCRIPTION:Dans le cadre de la semaine bleue nous vous proposons le jeudi 5 octobre au CPA Musidora un temps d’échange pour les Séniors et les autres autour de : vieillir ensemble une chance cultiver.
URL:https://claje.asso.fr/event/atelier-dechanges-tea-time/
LOCATION:CPA Musidora\, 51 rue François Truffaut\, PARIS 12\, 75012\, France
CATEGORIES:convivialité,CPA Musidora
ATTACH;FMTTYPE=image/png:https://claje.asso.fr/wp-content/uploads/2023/10/tea-time.png
END:VEVENT
BEGIN:VEVENT
DTSTART;TZID=Europe/Paris:20230926T190000
DTEND;TZID=Europe/Paris:20230926T213000
DTSTAMP:20260424T183324
CREATED:20230831T133801Z
LAST-MODIFIED:20230906T083252Z
UID:10000023-1695754800-1695763800@claje.asso.fr
SUMMARY:Soirée : JAM Musique
DESCRIPTION:Le CPA Bessie Smith vous accueille le mardi 26 septembre pour une rencontre conviviale et musicale autour du jazz\, du blues et des musiques du monde. \nLes instruments de musique sont disponibles sur place \nGratuit / Tout public
URL:https://claje.asso.fr/event/soiree-jam-musique/
LOCATION:CPA Bessie Smith\, 19 rue Antoine Julien Hénard\, Paris 12\, 75012\, France
CATEGORIES:convivialité
ATTACH;FMTTYPE=image/jpeg:https://claje.asso.fr/wp-content/uploads/2023/08/jam-concert.jpg
END:VEVENT
BEGIN:VEVENT
DTSTART;TZID=Europe/Paris:20230922T190000
DTEND;TZID=Europe/Paris:20230922T203000
DTSTAMP:20260424T183324
CREATED:20230905T102440Z
LAST-MODIFIED:20230920T115811Z
UID:10000036-1695409200-1695414600@claje.asso.fr
SUMMARY:[Atelier] Danse bien être
DESCRIPTION:Cet atelier alterne des exercices simples de relaxation et respiration à des mouvements dansés. \nLa danse bien-être favorise la détente\, la confiance et l’estime de soi\, le lâcher-prise\, la connexion à soi et aux autres : pas de recherche esthétique\, pas de jugement\, juste s’exprimer librement des ressentis et s’apporter du bon et du bien en laissant son corps s’exprimer ! \nTout public\n5€\nSur réservation\n1 vendredi par mois\nDe 19h00 à 20h30 \nS’inscrire en ligne \n 
URL:https://claje.asso.fr/event/atelier-danse-bien-etre/2023-09-22/
LOCATION:CPA Annie Fratellini *\, 36 quai de la Rapée\, Paris\, 75012\, France
CATEGORIES:Atelier,convivialité,CPA Annie Fralellini
ATTACH;FMTTYPE=image/png:https://claje.asso.fr/wp-content/uploads/2023/09/danse-bien-etre.png
END:VEVENT
BEGIN:VEVENT
DTSTART;TZID=Europe/Paris:20230916T140000
DTEND;TZID=Europe/Paris:20230916T153000
DTSTAMP:20260424T183324
CREATED:20230823T134142Z
LAST-MODIFIED:20230823T134142Z
UID:10000022-1694872800-1694878200@claje.asso.fr
SUMMARY:SPEED DATING LITTERAIRE : FEEL GOOD
DESCRIPTION:Venez avec un de vos livres préférés en lien avec le thème du mois.\n\nAsseyez-vous. Vous avez 5 minutes pour convaincre. Mimez\, dessinez\, lisez\, résumez\, décrivez votre livre.\n\nA la fin\, troquez votre livre et repartez avec une nouvelle lecture à savourer. Discussion avec votre âme romanesque autour d’un pot (sans alcool) en fin de séance.\n\nThème du mois : FEEL GOOD\n\nGratuit sur inscription
URL:https://claje.asso.fr/event/speed-dating-litteraire-feel-good/
LOCATION:CPA Musidora\, 51 rue François Truffaut\, PARIS 12\, 75012\, France
CATEGORIES:convivialité
ATTACH;FMTTYPE=image/png:https://claje.asso.fr/wp-content/uploads/2023/08/speed-dating.png
END:VEVENT
BEGIN:VEVENT
DTSTART;TZID=Europe/Paris:20230916T100000
DTEND;TZID=Europe/Paris:20230916T130000
DTSTAMP:20260424T183324
CREATED:20230905T091834Z
LAST-MODIFIED:20230906T081429Z
UID:10000026-1694858400-1694869200@claje.asso.fr
SUMMARY:[Sorties] Balade conviviale le long de la Seine entre Neuilly et Saint-Cloud
DESCRIPTION:Retrouvons-nous en compagnie pour une belle balade conviviale ! \nUne fois par mois\, le Centre Annie Fratellini vous offre une occasion de découvrir notre ville autrement et surtout de passer un bon moment ensemble. \nPour le mois de septembre\, venez découvrir Le long de la Seine entre Neuilly et Saint-Cloud. \nSamedi 16 septembre nous partons à la découverte des bords de Seine à l’extrême Ouest Parisien\, entre Neuilly\, Saint-Cloud et Suresnes… 7 km de balade environ. Chacun à son rythme et bien évidemment\, vous pouvez partir avant la fin ! Pour ceux qui le souhaitent\, on pourra pique-niquer ensemble à la fin de la balade. \nLes détails du parcours et du point de rendez-vous seront communiqués par mail/sms aux inscrits. \nUn samedi par mois\nDe 10h à 13h\n3€\nSur inscription\nTout public
URL:https://claje.asso.fr/event/sorties-balade-conviviale/
LOCATION:CPA Annie Fratellini *\, 36 quai de la Rapée\, Paris\, 75012\, France
CATEGORIES:convivialité,CPA Annie Fralellini,Sortie
ATTACH;FMTTYPE=image/png:https://claje.asso.fr/wp-content/uploads/2023/09/balades.png
END:VEVENT
END:VCALENDAR