BEGIN:VCALENDAR
VERSION:2.0
PRODID:-//Claje - ECPv6.15.20//NONSGML v1.0//EN
CALSCALE:GREGORIAN
METHOD:PUBLISH
X-ORIGINAL-URL:https://claje.asso.fr
X-WR-CALDESC:Évènements pour Claje
REFRESH-INTERVAL;VALUE=DURATION:PT1H
X-Robots-Tag:noindex
X-PUBLISHED-TTL:PT1H
BEGIN:VTIMEZONE
TZID:Europe/Paris
BEGIN:DAYLIGHT
TZOFFSETFROM:+0100
TZOFFSETTO:+0200
TZNAME:CEST
DTSTART:20240331T010000
END:DAYLIGHT
BEGIN:STANDARD
TZOFFSETFROM:+0200
TZOFFSETTO:+0100
TZNAME:CET
DTSTART:20241027T010000
END:STANDARD
BEGIN:DAYLIGHT
TZOFFSETFROM:+0100
TZOFFSETTO:+0200
TZNAME:CEST
DTSTART:20250330T010000
END:DAYLIGHT
BEGIN:STANDARD
TZOFFSETFROM:+0200
TZOFFSETTO:+0100
TZNAME:CET
DTSTART:20251026T010000
END:STANDARD
BEGIN:DAYLIGHT
TZOFFSETFROM:+0100
TZOFFSETTO:+0200
TZNAME:CEST
DTSTART:20260329T010000
END:DAYLIGHT
BEGIN:STANDARD
TZOFFSETFROM:+0200
TZOFFSETTO:+0100
TZNAME:CET
DTSTART:20261025T010000
END:STANDARD
END:VTIMEZONE
BEGIN:VEVENT
DTSTART;TZID=Europe/Paris:20250208T100000
DTEND;TZID=Europe/Paris:20250208T120000
DTSTAMP:20260423T144251
CREATED:20250128T102204Z
LAST-MODIFIED:20250128T102204Z
UID:10000511-1739008800-1739016000@claje.asso.fr
SUMMARY:[Stage] Ateliers d’écriture
DESCRIPTION:Participez à l’atelier d’écriture du CPA Annie Fratellini ! \nChaque séance explore une thématique unique\, pour stimuler votre créativité et vous permettre d’expérimenter de nouvelles formes d’écriture. Que vous soyez débutant·e ou écrivain·e confirmé·e cet atelier vous invite à enrichir vos récits et à développer votre style dans une ambiance conviviale et inspirante. \nPourquoi participer ? \n\nDécouvrir de nouvelles techniques d’écriture adaptées à chaque thématique.\nPartagez vos créations et partagez avec d’autres passionné·e·s.\nVous offrez une pause créative et épanouissante chaque mois.\n\nInfos pratiques : \nDès 16 ans / Tarif selon QF \n\nSamedi 8 février : Si j’avais le pouvoir de changer le monde\, que ferais-je ?\nSamedi 8 mars : Ecrire une lettre à une femme de mon entourage\nSamedi 12 avril : Mes premières fois positives\nSamedi 10 mai : Ce que je me souhaite\nSamedi 14 juin : Ce que j’ai réussi récemment\nDe 10h00 à 12h00
URL:https://claje.asso.fr/event/stage-ateliers-decriture/
LOCATION:CPA Annie Fratellini *\, 36 quai de la Rapée\, Paris\, 75012\, France
CATEGORIES:Atelier,convivialité,CPA Annie Fralellini
ATTACH;FMTTYPE=image/png:https://claje.asso.fr/wp-content/uploads/2025/01/ecriture-fratellini-1.png
END:VEVENT
BEGIN:VEVENT
DTSTART;TZID=Europe/Paris:20250208T193000
DTEND;TZID=Europe/Paris:20250208T213000
DTSTAMP:20260423T144251
CREATED:20250205T135554Z
LAST-MODIFIED:20250205T135756Z
UID:10000535-1739043000-1739050200@claje.asso.fr
SUMMARY:[Convivialité] Repas partagé au Café Maya
DESCRIPTION:Le Café Maya vous offre un moment de convivialité autour d’un repas partagé\, le samedi 8 février . Inscrivez -vous en amont auprès du café\, et venez déguster un repas partagé de qualité dans un moment de détente et de convivialité. \n\nInfos pratiques\n\n\n\nSamedi 8 février 2025 dès 19h30 \n\n\n\nTarif : 7€ enfant et 10€ adultes \n\n\n\nInscription obligatoire auprès du Café Maya (nombre de place limité)
URL:https://claje.asso.fr/event/convivialite-repas-partage-au-cafe-maya/
LOCATION:Café Maya Angelou\, 10 rue Erard\, PARIS\, Sélectionner un État :\, 75012\, France
CATEGORIES:Antenne Maya Angelou,convivialité
ATTACH;FMTTYPE=image/png:https://claje.asso.fr/wp-content/uploads/2025/02/site-repas-partage.png
END:VEVENT
END:VCALENDAR